BEGIN:VCALENDAR
VERSION:2.0
PRODID:-//wp-events-plugin.com//7.2.3.1//EN
TZID:Europe/Berlin
X-WR-TIMEZONE:Europe/Berlin
BEGIN:VEVENT
UID:5007@frauenportal.koeln
DTSTART;TZID=Europe/Berlin:20241004T180000
DTEND;TZID=Europe/Berlin:20241004T200000
DTSTAMP:20240926T092131Z
URL:https://frauenportal.koeln/veranstaltungen/frauentreffpunkt-2024-10-04
 /
SUMMARY:Offener Clubabend im Beginenfenster mit Vernissage
DESCRIPTION:Elisabeth Neuhöfer\, Kölnerin\, unterwegs in Fotokunst\, Male
 rei\, Grafik\, Bühnenbild und Architektur zeigt ihre Papier-und Fotoarbei
 ten der Jahrtausendwende\, wieder neu entdeckt und vor Ort aktualisiert. \
 n\nÖffnungstermine der Ausstellung 'LESBIAN ANGELS - 2000/2001 COMEBACK 2
 024':\n5./6.10.\, 12./13.10.\, 19./20.10.\, 26./27.10.\, jeweils von 16-20
  Uhr in Anwesenheit der Künstlerin\n\nMonatlicher Frauen*Treffpunkt als C
 lub-Abend im Beginenfenster am 1. Freitag im Monat.\nBeginn: 18 Uhr\nEnde:
  zeigt sich am jeweiligen Abend\n\nVeranstalterin:\nBeginenSalon/Beginen K
 öln e.V.\n\nAnsprechpartnerin:\nBrigitte Schäfer\, Sprecherin BeginenSal
 on\, E-Mail: info@beginenvilla.koeln\n\nKosten:\nEintritt frei.
LOCATION:Beginenfenster Köln\, Markmannsgasse 7\, 50667 Köln
GEO:50.936778;6.961977
X-APPLE-STRUCTURED-LOCATION;VALUE=URI;X-ADDRESS=Markmannsgasse 7\, Köln\, 
 50667\, Frauenorganisation\, Deutschland;X-APPLE-RADIUS=100;X-TITLE=Begine
 nfenster Köln:geo:50.936778,6.961977
END:VEVENT
BEGIN:VTIMEZONE
TZID:Europe/Berlin
X-LIC-LOCATION:Europe/Berlin
BEGIN:DAYLIGHT
DTSTART:20240331T030000
TZOFFSETFROM:+0100
TZOFFSETTO:+0200
TZNAME:CEST
END:DAYLIGHT
END:VTIMEZONE
END:VCALENDAR