BEGIN:VCALENDAR
VERSION:2.0
PRODID:-//wp-events-plugin.com//7.2.3.1//EN
TZID:Europe/Berlin
X-WR-TIMEZONE:Europe/Berlin
BEGIN:VEVENT
UID:2766@frauenportal.koeln
DTSTART;TZID=Europe/Berlin:20201025T143000
DTEND;TZID=Europe/Berlin:20201025T163000
DTSTAMP:20200629T073240Z
URL:https://frauenportal.koeln/veranstaltungen/friedhof-melaten-prominente
 -graeber/
SUMMARY:Friedhof Melaten: Prominente Gräber
DESCRIPTION:Viele renommierte KünstlerInnen\, LiteratInnen\, Schriftstelle
 rInnen\, SängerInnen und SchauspielerInnen sind auf Melaten begraben. Ein
 ige Prominentengräber sind sehr aufwändig gestaltet\, andere dagegen bes
 cheiden.\n\nAnmeldung erforderlich unter service@tour-agentur.de\n\nDie F
 ührung kostet 12\,00 Euro pro Person.\n
END:VEVENT
BEGIN:VTIMEZONE
TZID:Europe/Berlin
X-LIC-LOCATION:Europe/Berlin
BEGIN:STANDARD
DTSTART:20201025T020000
TZOFFSETFROM:+0200
TZOFFSETTO:+0100
TZNAME:CET
END:STANDARD
END:VTIMEZONE
END:VCALENDAR