BEGIN:VCALENDAR
VERSION:2.0
PRODID:-//wp-events-plugin.com//7.2.3.1//EN
TZID:Europe/Berlin
X-WR-TIMEZONE:Europe/Berlin
BEGIN:VEVENT
UID:2770@frauenportal.koeln
DTSTART;TZID=Europe/Berlin:20200913T143000
DTEND;TZID=Europe/Berlin:20200913T163000
DTSTAMP:20200629T074438Z
URL:https://frauenportal.koeln/veranstaltungen/friedhof-melaten-stadtgesch
 ichte-kurioses-friedhofsfuehrung-2/
SUMMARY:Friedhof Melaten: Stadtgeschichte &amp\; Kurioses - Friedhofsführu
 ng
DESCRIPTION:Wie gelang es der Obrigkeit im 19. Jahrhundert\, die KölnerInn
 en zu überzeugen\, sich weit vor den Toren ihrer Stadt beerdigen zu lasse
 n? Schließlich hatten hier Aussätzige gelebt und Hinrichtungen stattgefu
 nden. Es wird an Gräbern Betuchter und weniger Betuchter vorbeigezogen un
 d die „Kegelbahn“ auf der „Millionenallee“ werden bestaunt. Es ist
  zu sehen\, wie man bereits zu Lebzeiten für die richtige Grabgestaltung 
 sorgen kann und wer auf Persönliches Wert legt. So begegnet den Teilnehme
 nden mal ein Lappenclown auf einem Grab\, mal das Maskottchen des FC-Köln
 \, der Ziegenbock Hennes.\n\nAnmeldung erforderlich unter service@tour-age
 ntur.de\n\nDie Führung kostet 12\,00 Euro pro Person.
END:VEVENT
BEGIN:VTIMEZONE
TZID:Europe/Berlin
X-LIC-LOCATION:Europe/Berlin
BEGIN:DAYLIGHT
DTSTART:20200329T030000
TZOFFSETFROM:+0100
TZOFFSETTO:+0200
TZNAME:CEST
END:DAYLIGHT
END:VTIMEZONE
END:VCALENDAR