BEGIN:VCALENDAR
VERSION:2.0
PRODID:-//wp-events-plugin.com//7.2.3.1//EN
TZID:Europe/Berlin
X-WR-TIMEZONE:Europe/Berlin
BEGIN:VEVENT
UID:2221@frauenportal.koeln
DTSTART;TZID=Europe/Berlin:20200730T163000
DTEND;TZID=Europe/Berlin:20200730T173000
DTSTAMP:20200630T133419Z
URL:https://frauenportal.koeln/veranstaltungen/fuehrung-durch-den-frauen-m
 ediaturm-bayenturm-3-2020-07-30/
SUMMARY:Führung durch den Frauen-MediaTurm / Bayenturm
DESCRIPTION:Der Termin findet nicht statt.\nDer Bayenturm ist das historisc
 he Herz des Rheinauhafens. Heute beheimatet der Turm den FrauenMediaTurm\
 , das Archiv und Dokumentationszentrum zur Emanzipationsgeschichte. Dies z
 usammen mit der einzigartigen Architektur des Innenausbaus bilden interess
 ante Themen für eine Turmführung.\n\nDer FrauenMediaTurm bietet eine f
 este öffentliche Führung jeden letzten Donnerstag im Monat um 16.30 Uhr 
 an.\n\nVeranstalterin:\nFrauenMediaTurm\nAnsprechpartnerin:\nJasmin Schenk
 \, Tel.: 0221/931 881-0 (10-17 Uhr)\, E-Mail:\n\ninfo@frauenmediaturm.de\n
 Kosten / Anmeldung:\nKosten 5 Euro/Person. Voranmeldung erforderlich.\n\nV
 eranstaltungsort:\nFrauenMediaTurm\, Am Bayenturm 2\, 50678 Köln\, 50678 
 Köln\, [map id=980]
END:VEVENT
BEGIN:VTIMEZONE
TZID:Europe/Berlin
X-LIC-LOCATION:Europe/Berlin
BEGIN:DAYLIGHT
DTSTART:20200329T030000
TZOFFSETFROM:+0100
TZOFFSETTO:+0200
TZNAME:CEST
END:DAYLIGHT
END:VTIMEZONE
END:VCALENDAR