BEGIN:VCALENDAR
VERSION:2.0
PRODID:-//wp-events-plugin.com//7.2.3.1//EN
TZID:Europe/Berlin
X-WR-TIMEZONE:Europe/Berlin
BEGIN:VEVENT
UID:3002@frauenportal.koeln
DTSTART;TZID=Europe/Berlin:20211027T170000
DTEND;TZID=Europe/Berlin:20211027T180000
DTSTAMP:20211031T124300Z
URL:https://frauenportal.koeln/veranstaltungen/fuehrung-durch-den-frauen-m
 ediaturm-bayenturm-4-2021-10-27/
SUMMARY:Führung durch den Frauen-MediaTurm / Bayenturm
DESCRIPTION:Der Bayenturm ist das historische Herz des Rheinauhafens. Heute
  beheimatet der Turm den FrauenMediaTurm\, das Archiv und Dokumentationsz
 entrum zur Emanzipationsgeschichte. Dies zusammen mit der einzigartigen Ar
 chitektur des Innenausbaus bilden interessante Themen für eine Turmführu
 ng.\n\nDer FrauenMediaTurm bietet eine feste öffentliche Führung jeden
  vierten Mittwoch im Monat um 17 Uhr an.\n\nVeranstalterin:\nFrauenMediaTu
 rm\nAnsprechpartnerin:\nBerit Schallner\, Tel.: 0221/931 881-0 (10-17 Uhr)
 \, E-Mail:\n\ninfo@frauenmediaturm.de\n&nbsp\;\nKosten / Anmeldung:\nKoste
 n 5 Euro/Person. Voranmeldung erforderlich.\nTeilnahme geimpft/getestet/ge
 nesen und mit einer medizinischen Maske.\n\nVeranstaltungsort:\nFrauenMedi
 aTurm\, Am Bayenturm 2\, 50678 Köln\, 50678 Köln\, [map id=980]
END:VEVENT
BEGIN:VTIMEZONE
TZID:Europe/Berlin
X-LIC-LOCATION:Europe/Berlin
BEGIN:DAYLIGHT
DTSTART:20210328T030000
TZOFFSETFROM:+0100
TZOFFSETTO:+0200
TZNAME:CEST
END:DAYLIGHT
END:VTIMEZONE
END:VCALENDAR