BEGIN:VCALENDAR
VERSION:2.0
PRODID:-//wp-events-plugin.com//7.2.3.1//EN
TZID:Europe/Berlin
X-WR-TIMEZONE:Europe/Berlin
BEGIN:VEVENT
UID:3417@frauenportal.koeln
DTSTART;TZID=Europe/Berlin:20211120T140000
DTEND;TZID=Europe/Berlin:20211120T153000
DTSTAMP:20211031T151431Z
URL:https://frauenportal.koeln/veranstaltungen/fuehrung-durch-den-skulptur
 enpark-sein-und-schein-lyrik-juedischer-dichterinnen-2/
SUMMARY:Führung durch den Skulpturenpark: Sein und Schein + Lyrik jüdisch
 er Dichterinnen
DESCRIPTION:„Fake or real“ – Eine mehrdimensionale Führung.\n\nAuf d
 em Areal\, einer Stiftung des Ehepaars Stoffel\, werden Illusionen aufgeru
 fen: Verborgenes wird erst auf den zweiten Blick sichtbar\, Titel führen 
 (fast) in die Irre.  Spiegelungen spielen eine bedeutende Rolle\, Irrwege 
 werden angeboten\, die Libelle zeigt sich nur wenigen in ihrer Transformat
 ion. Jenny Holzers Kunstwerke sind Wissensspeicher\, die es zu entziffern 
 gilt – einer beginnt passgenau mit den Worten „fake or real“. Mary B
 auermeisters Rübezahl evoziert mythische Räume. Objekte sind fast zu üb
 ersehen oder werden auch nicht gefunden. Gibt es sie überhaupt? Wer ident
 ifiziert Nina Canells Werk als Kunst? Digitale Virtualität hat bei Katja 
 Novitskova Einzug gehalten. Wohin führt uns „Die Spur“? Treppen führ
 en ins Nichts\, hohe Fenster geben keinen Ausblick - verschiedene Dimensio
 nen von Realität oder Täuschung sind zu befragen.  \n\nDie Führung durc
 h die Natur-Ausstellung #10 unter der Leitung der Kunsthistorikerin Ursula
  Mattelé geht zu ausgewählten Objekten\, sie wird ergänzt durch ausgew
 ählte Gedichte jüdischer Lyrikerinnen\, rezitiert von Katharina Waldau. 
 \n\nVeranstalterin:\nKölner Frauengeschichtsverein e.V.\n\nKontakt:\nTel.
 : 0221 / 24 82 65\, E-Mail: info@frauengeschichtsverein.de\n\nKosten / An
 meldung:\nKostenbeitrag: 15 Euro.\n\nVeranstaltungsort:\nTreffpunkt: Einga
 ng Skulpturenpark an der Riehler Str.\, 50668 Köln\, [map id=1058]
END:VEVENT
BEGIN:VTIMEZONE
TZID:Europe/Berlin
X-LIC-LOCATION:Europe/Berlin
BEGIN:STANDARD
DTSTART:20211031T020000
TZOFFSETFROM:+0200
TZOFFSETTO:+0100
TZNAME:CET
END:STANDARD
END:VTIMEZONE
END:VCALENDAR