BEGIN:VCALENDAR
VERSION:2.0
PRODID:-//wp-events-plugin.com//7.2.3.1//EN
TZID:Europe/Berlin
X-WR-TIMEZONE:Europe/Berlin
BEGIN:VEVENT
UID:2393@frauenportal.koeln
DTSTART;TZID=Europe/Berlin:20191102T190000
DTEND;TZID=Europe/Berlin:20191102T203000
DTSTAMP:20191021T094500Z
URL:https://frauenportal.koeln/veranstaltungen/galgen-gauner-guillotine-kr
 iminalgeschichten-aus-2000-jahren/
SUMMARY:Galgen\, Gauner\, Guillotine -  Kriminalgeschichten aus 2000 Jahren
DESCRIPTION:Ehebruch\, Plünderung\, Raub\, Mord... Verbrechen sind auch fr
 üher in Köln zahlreich gewesen. Entsprechend vielfältig waren die Urtei
 le: Augen blenden\, Ohren abschneiden\, am Kax stehen\, stäupen... Es wir
 d erklärt\, wann welche Strafen angewendet wurden und was hinter manch ei
 ner Redewendung steckt.\n\nKosten: Euro 11\,00 pro Person\nTreffpunkt: Rö
 mertor auf der Domplatte am Dom (Kardinal-Höffner-Platz)\n\nErlebnistoure
 n Köln &amp\; Region - Tour-Agentur
END:VEVENT
BEGIN:VTIMEZONE
TZID:Europe/Berlin
X-LIC-LOCATION:Europe/Berlin
BEGIN:STANDARD
DTSTART:20191027T020000
TZOFFSETFROM:+0200
TZOFFSETTO:+0100
TZNAME:CET
END:STANDARD
END:VTIMEZONE
END:VCALENDAR