BEGIN:VCALENDAR
VERSION:2.0
PRODID:-//wp-events-plugin.com//7.2.3.1//EN
TZID:Europe/Berlin
X-WR-TIMEZONE:Europe/Berlin
BEGIN:VEVENT
UID:1296@frauenportal.koeln
DTSTART;TZID=Europe/Berlin:20180915T193000
DTEND;TZID=Europe/Berlin:20180915T210000
DTSTAMP:20180831T140301Z
URL:https://frauenportal.koeln/veranstaltungen/gedok-koeln-stadtmusik/
SUMMARY:GEDOK KÖLN: Stadtmusik
DESCRIPTION:Die GEDOK KÖLN veranstaltet im Amélie Thyssen Auditorium ein 
 Konzert\, das sich mit dem Thema "Stadt" (speziell ist dabei Köln gemeint
 ) auseinandersetzt. Komponierte und improvisierte Werke wechseln sich ab\,
  vorgestellt von renommierten Musikerinnen aus unserer Stadt.\n\nHier ist 
 die Einladung: GEDOK Stadtmusik 2018 (pdf-Datei\, 533 KB)\n\nVeranstalteri
 n:GEDOK KölnKontakt:Geschäftsstelle der GEDOK Köln\, Tel.: 0221 / 43 33
  49\, E-Mail: gedokkoeln@t-online.de\n\nVeranstaltungsort:\nFritz Thyssen 
 Stiftung\, Amélie Thyssen Auditorium\, Apostelnkloster 13-15\, 50672 Köl
 n\, [map id=11772]
END:VEVENT
BEGIN:VTIMEZONE
TZID:Europe/Berlin
X-LIC-LOCATION:Europe/Berlin
BEGIN:DAYLIGHT
DTSTART:20180325T030000
TZOFFSETFROM:+0100
TZOFFSETTO:+0200
TZNAME:CEST
END:DAYLIGHT
END:VTIMEZONE
END:VCALENDAR