BEGIN:VCALENDAR
VERSION:2.0
PRODID:-//wp-events-plugin.com//7.2.3.1//EN
TZID:Europe/Berlin
X-WR-TIMEZONE:Europe/Berlin
BEGIN:VEVENT
UID:2708@frauenportal.koeln
DTSTART;TZID=Europe/Berlin:20200607T160000
DTEND;TZID=Europe/Berlin:20200607T180000
DTSTAMP:20200529T133048Z
URL:https://frauenportal.koeln/veranstaltungen/gedok-konzert-2-toechter-au
 s-elysium-jetzt/
SUMMARY:GEDOK Konzert 2 – „töchter aus elysium: jetzt“
DESCRIPTION:niclamue\, Stimme\; Anne Kordes-Pistorius\, Flöte\;\nEnsemble\
 , „Moment x“ Chriastina Messner\, Violine\; Lucia Mense\, Flöten\; Be
 ttina Wenzel\, Stimme\n\nFreiheit\, Liebe\, Rollenspiele –  in ihrer Col
 lage “Fidelionore“ singt niclamue vokale und instrumentale Passagen au
 s Beethovens Oper\, transformiert sie mit ihrer Loopmaschine und überrasc
 ht mit neuen Klangfarben. \n\nDie Komposition des Ensembles „moment x“
  exploriert höchste musikalische Sphären\, sowie klangliche Untiefen. Ne
 ben strukturell durch- und gedachten komponierten Zeitabläufen im Umgang 
 mit musikalischem Material von Beethoven bleibt Raum für Spielerisches\, 
 Humor\, Absurditäten des Moments und Poesie des Augenblicks. So entsteht 
 ein lebendiges Zusammenwirken von Musik\, Raum und Augenblick.\n\nDie Flö
 tistin Anne Kordes-Pistorius verbindet beide Performances mit einer improv
 isierten Zwischenmusik\, erfindungsreich und voller Energie.\n\nVeranstalt
 erinnen:\nGEDOK Köln\nGEDOK Bonn\, www.gedok-bonn.de\nFrauenmuseum Bonn\n
 \nKontakt:\nGeschäftsstelle der GEDOK Köln\, Tel.: 0221 / 43 33 49\, E-M
 ail: gedokkoeln@t-online.de\n\nKosten / Anmeldung:\nEintritt: 6 €\n\nVer
 anstaltungsort:\nFrauenmuseum\, Im Krausfeld 10\, 53111 Bonn\, [map id=904
 ]
END:VEVENT
BEGIN:VTIMEZONE
TZID:Europe/Berlin
X-LIC-LOCATION:Europe/Berlin
BEGIN:DAYLIGHT
DTSTART:20200329T030000
TZOFFSETFROM:+0100
TZOFFSETTO:+0200
TZNAME:CEST
END:DAYLIGHT
END:VTIMEZONE
END:VCALENDAR