BEGIN:VCALENDAR
VERSION:2.0
PRODID:-//wp-events-plugin.com//7.2.3.1//EN
TZID:Europe/Berlin
X-WR-TIMEZONE:Europe/Berlin
BEGIN:VEVENT
UID:2813@frauenportal.koeln
DTSTART;TZID=Europe/Berlin:20200906T160000
DTEND;TZID=Europe/Berlin:20200906T180000
DTSTAMP:20200730T131940Z
URL:https://frauenportal.koeln/veranstaltungen/gedok-konzert-3-ensuite-lou
 is/
SUMMARY:GEDOK Konzert 3 – „ENSUITE: LOUIS“
DESCRIPTION:Fabienne Carlier – diat. Akkordeon\, Voc\, Kp\nTamara Lukashe
 va – Piano\, Voc\, Kp\nEli Thoböll – Akkordeon\, Kp\nRomy Herzberg 
 – Kontrabass\, Kp\nChristina Fuchs – Saxophon\, Klarinetten\, Kp\n\nVo
 n Elise zum Elysee ist der Weg vielleicht gar nicht so weit: vom Mythos Lu
 dwig zum Menschen und Pendant Louis.\n\nEnsuite? Und dann? BethoWENN\, wie
  die Franzosen sagen?… Es bleiben innere Landschaften\, einsam und ergre
 ifend wie seine wertvollen Musikpassagen\, die mit eigenwilligen Instrumen
 ten (wie z.B. dem diatonischen Akkordeon) zu zähmen versucht werden. Dabe
 i werden explosiv geladenen Pausen erzählen\, ob es eher bedrückend (wie
  sein Leiden)\, aufbrausend (wie sein Temperament) oder tänzerisch (wie s
 ein Humanismus) zugeht.\n\nVeranstalterinnen:\nGEDOK Köln\nGEDOK Bonn\, w
 ww.gedok-bonn.de\nFrauenmuseum Bonn\n\nKontakt:\nGeschäftsstelle der GEDO
 K Köln\, Tel.: 0221 / 43 33 49\, E-Mail: gedokkoeln@t-online.de\n\nKosten
  / Anmeldung:\nEintritt: 6 €\n\nVeranstaltungsort:\nFrauenmuseum\, Im Kr
 ausfeld 10\, 53111 Bonn\, [map id=904]
END:VEVENT
BEGIN:VTIMEZONE
TZID:Europe/Berlin
X-LIC-LOCATION:Europe/Berlin
BEGIN:DAYLIGHT
DTSTART:20200329T030000
TZOFFSETFROM:+0100
TZOFFSETTO:+0200
TZNAME:CEST
END:DAYLIGHT
END:VTIMEZONE
END:VCALENDAR