BEGIN:VCALENDAR
VERSION:2.0
PRODID:-//wp-events-plugin.com//7.2.3.1//EN
TZID:Europe/Berlin
X-WR-TIMEZONE:Europe/Berlin
BEGIN:VEVENT
UID:2814@frauenportal.koeln
DTSTART;TZID=Europe/Berlin:20210919T150000
DTEND;TZID=Europe/Berlin:20210919T170000
DTSTAMP:20210831T122510Z
URL:https://frauenportal.koeln/veranstaltungen/gedok-konzert-4-paraplouies
 -ludwigs-gehoer/
SUMMARY:GEDOK Konzert 4 – „Paraplouïes– Ludwigs Gehör“
DESCRIPTION:Beethovensche Originalwerke entfalten durch Kompositionen von V
 iola Kramer\, Anne Krickeberg und dem gesamten Ensemble neue Zusammenhäng
 e.\nMit Stimme\, Cello\, Quer- bzw.Glissandoflöten\, teils mikrofonierten
  Alltagsgegenständen\, Klavier\, Elektronik und einem Chor zeigen die Mus
 ikerinnen Perspektiven ihrer Erfahrung.\nImprovisationen\, mit denen sie k
 omponierte Werke neu strukturieren\, lassen lebendige Werke aus dem Moment
  heraus entstehen. Die innere Stimmung und Intuition am Tag der Aufführun
 g prägt Musik\, Handlung\, Rhythmus und Werk.\n\nDie Konzertreihe des Bee
 thovenjahres der GEDOK endet mit dem „Dirigat der Stille“ für Chor\, 
 komponiert und geleitet von Viola Kramer.\n\nAusführende (alle Künstleri
 nnen der GEDOK KÖLN und der GEDOK Bonn):\n„Paraplouïes“ mit Sieglind
 e Schneider (Gesang)\, www.sieglinde-schneider.de\nAnne Krickeberg (Cello)
 \, mindful-culture.blogspot.com\nAnja Lautermann (Querflöten\, Elektronik
 )\, www.anja-lautermann.de\nViola Kramer (Klavier\, Gesang)\, www.violakra
 mer.de\n\nVeranstalterinnen:\nGEDOK Köln\nGEDOK Bonn\, www.gedok-bonn.de\
 nFrauenmuseum Bonn\n\nKontakt:\nGeschäftsstelle der GEDOK Köln\, Tel.: 0
 221 / 43 33 49\, E-Mail: gedokkoeln@t-online.de\n\nKosten / Anmeldung:\nKo
 sten / Anmeldung:Aufgrund von Corona kann nur eine beschränkte Zahl von G
 ästen an den Veranstaltungen teilhaben. Bitte melden Sie sich deshalb vor
 ab an. Tel.: 0228 / 691344\, E-Mail: anna.thinius@frauenmuseum.de Eintritt
 : 10/6 €\n\nVeranstaltungsort:\nFrauenmuseum\, Im Krausfeld 10\, 53111 B
 onn\, [map id=904]
END:VEVENT
BEGIN:VTIMEZONE
TZID:Europe/Berlin
X-LIC-LOCATION:Europe/Berlin
BEGIN:DAYLIGHT
DTSTART:20210328T030000
TZOFFSETFROM:+0100
TZOFFSETTO:+0200
TZNAME:CEST
END:DAYLIGHT
END:VTIMEZONE
END:VCALENDAR