BEGIN:VCALENDAR
VERSION:2.0
PRODID:-//wp-events-plugin.com//7.2.3.1//EN
TZID:Europe/Berlin
X-WR-TIMEZONE:Europe/Berlin
BEGIN:VEVENT
UID:3354@frauenportal.koeln
DTSTART;TZID=Europe/Berlin:20211009T140000
DTEND;TZID=Europe/Berlin:20211009T160000
DTSTAMP:20210930T094001Z
URL:https://frauenportal.koeln/veranstaltungen/gehorsam-oder-ketzerisch-be
 ginen-und-ihre-orte-in-koeln/
SUMMARY:Gehorsam oder ketzerisch? – Beginen und ihre Orte in Köln
DESCRIPTION:Das Thema Beginen lädt zu Projektionen ein\, nicht alle entspr
 echen den Realitäten. Auf diesem Rundgang werden ältere und neuere Erken
 ntnisse zu den Kölner Beginen vermittelt. Es werden Orte aufgesucht\, an 
 denen sie sich bevorzugt ansiedelten\, ihre Entstehung\, Lebensweise und d
 eren Veränderung beschrieben. Sodann werden Einrichtungen im Gesundheitss
 ektor gezeigt\, die auf beginale Wurzeln zurückblicken. Welche beginische
 n Mystikerinnen lebten in Köln und welche Visionen hatten sie? War die ha
 ndwerkliche Tätigkeit der Beginen eine wirtschaftliche Bedrohung für die
  Zünfte? Abschließend wird diskutiert\, ob das Beginentum wirklich eine 
 Art mittelalterlicher Emanzipationsbewegung war? Was macht die heutige Att
 raktivität aus?\n\nWegen der weiten Strecken wird zwischendurch der Bus g
 enommen.\n\nVeranstalterin:\nKölner Frauengeschichtsverein e.V. in Kooper
 ation mit dem Beginen Köln e.V.\n\nKontakt:\nTel.: 0221 / 24 82 65\, E-Ma
 il: info@frauengeschichtsverein.de\n\nKosten / Anmeldung:\nKostenbeitrag: 
 12 Euro\n\nVeranstaltungsort:\nTreffpunkt: 14.00 Uhr An den Dominikanern 6
 -8 (vor der Residenz)\, 50668 Köln\, [map id=1046]
END:VEVENT
BEGIN:VTIMEZONE
TZID:Europe/Berlin
X-LIC-LOCATION:Europe/Berlin
BEGIN:DAYLIGHT
DTSTART:20210328T030000
TZOFFSETFROM:+0100
TZOFFSETTO:+0200
TZNAME:CEST
END:DAYLIGHT
END:VTIMEZONE
END:VCALENDAR