BEGIN:VCALENDAR
VERSION:2.0
PRODID:-//wp-events-plugin.com//7.2.3.1//EN
TZID:Europe/Berlin
X-WR-TIMEZONE:Europe/Berlin
BEGIN:VEVENT
UID:4429@frauenportal.koeln
DTSTART;TZID=Europe/Berlin:20231002T190000
DTEND;TZID=Europe/Berlin:20231002T210000
DTSTAMP:20230928T122132Z
URL:https://frauenportal.koeln/veranstaltungen/gelassenheit-glueck-erfolg-
 aendere-deine-einstellung-nlp-info-workshop/
SUMMARY:„Gelassenheit\, Glück & Erfolg – ändere Deine Einstellung!“
 - NLP-Info-Workshop
DESCRIPTION:Jenison Thomkins zu ihrem Angebot:\n\n"Was wäre\, wenn Du übe
 r alle Maßen erfolgreich\, glücklich und charismatisch wärest? \n‚Das
  kann ich nicht!‘ Das geht nicht!‘ oder ‚Das klappt eh nicht!‘ So 
 bremst uns fortgesetzt der innere Kritiker aus. Und wir merken es gar nich
 t\, sondern glauben den Unsinn\, den unsere Glaubenssätze verzapfen!\nWie
  wir die ewig nörgelnde Stimme in uns entmachten und in freundliche und e
 rlaubende Töne umwandeln\, so dass wir uns frei wie ein Fisch im Wasser f
 ühlen und unsere Projekte beherzt angehen und das Leben genießen können
 \, das zeige ich Dir!\n\nHier bekommst du dein kostenloses Ticket:" www.ev
 entbrite.de/e/gelassenheit-gluck-erfolg-andere-deine-einstellung-nlp-works
 hop-tickets-642947763067
END:VEVENT
BEGIN:VTIMEZONE
TZID:Europe/Berlin
X-LIC-LOCATION:Europe/Berlin
BEGIN:DAYLIGHT
DTSTART:20230326T030000
TZOFFSETFROM:+0100
TZOFFSETTO:+0200
TZNAME:CEST
END:DAYLIGHT
END:VTIMEZONE
END:VCALENDAR