BEGIN:VCALENDAR
VERSION:2.0
PRODID:-//wp-events-plugin.com//7.2.3.1//EN
TZID:Europe/Berlin
X-WR-TIMEZONE:Europe/Berlin
BEGIN:VEVENT
UID:4317@frauenportal.koeln
DTSTART;TZID=Europe/Berlin:20230606T150000
DTEND;TZID=Europe/Berlin:20230606T163000
DTSTAMP:20230531T163123Z
URL:https://frauenportal.koeln/veranstaltungen/gemeinsam-gegen-das-vergess
 en/
SUMMARY:Gemeinsam gegen das Vergessen
DESCRIPTION:Frau Dr. Carmen Pérez González\, freiberufliche Kuratorin\, F
 otohistorikerin und Lehrbeauftragte an der Bergischen Universität in Wupp
 ertal\, hält einen Vortrag zum Thema “Gemeinsam gegen das Vergessen”.
  Sie hat zusammen mit WissenschaftlerInnen und IT-ExpertInnen ein interakt
 ives Gedächtnistraining für Demenz-PatientInnen entwickelt – die Table
 t-App “Golden Memories”.\n\nEs gibt verschiedene Arten von Demenz\, ab
 er allen gemeinsam ist der Verlust der Identität. Genau an diesem Punkt k
 önnen alte Familienfotos eine wunderbare Rolle spielen. Sie können den B
 etroffenen helfen\, sich zu erinnern\, wer sie waren\, und vergessene Kapi
 tel ihres Lebens zu rekonstruieren.\n\nFrau Dr. Pérez González entwickel
 te verschiedene Fotospiel-Ideen speziell für eine ältere Zielgruppe\, zu
 erst in analoger Form unter dem Namen “Fotospiele im Alter” und dann i
 n digitaler Form\, eine Tablet App\, die das Familienleben generationsübe
 rgreifend verbinden kann. Die Tablet App “Golden Memories” bietet Foto
 spiele an\, die jede und jeder mit eigenen Fotos bestücken kann. Hier kö
 nnen sich ältere Menschen\, aber eben auch Töchter\, Söhne\, Nichten\, 
 Neffen und Enkelkinder analog wie digital einbringen. Zuerst müssen die f
 ür die Familie wichtigen Fotos zusammengetragen\, mit Handy oder Tablet a
 bfotografiert und in die von der App zur Verfügung gestellte “Galerie
 ” hochgeladen werden. Dann gilt es jedes Foto zu beschriften. Das ist ei
 ne Arbeit\, für die man die Hilfe der Betroffenen braucht\, die\, wenn ma
 n dann zusammensitzt\, redet und sortiert\, ganz nebenbei auch ihr Gedäch
 tnis trainieren. Hat man dann einen schönen Vorrat an Familienfotos in di
 e Galerie eingestellt\, kann der Spielspaß beginnen. Hier geht es zur App
 : www.golden-memories.de\n\nVeranstalterin:\nInternationaler Lyceum Club K
 öln e.V.\nin Kooperation mit BeginenSalon/Beginen Köln e.V.\n\nAnsprechp
 artnerin:\nHeidi Esser\, E-Mail: info@lyceumclub-koeln.de\n\nKosten / Anme
 ldung:\nBeitrag für Gäste: 5\,00 €. Anmeldung bis eine Woche vorher be
 i Frau Kusserow\, E-Mail: r.kusserow@t-online.de\, Tel. 0221 / 7123814
LOCATION:Beginenfenster Köln\, Markmannsgasse 7\, 50667 Köln
GEO:50.936778;6.961977
X-APPLE-STRUCTURED-LOCATION;VALUE=URI;X-ADDRESS=Markmannsgasse 7\, Köln\, 
 50667\, Frauenorganisation\, Deutschland;X-APPLE-RADIUS=100;X-TITLE=Begine
 nfenster Köln:geo:50.936778,6.961977
END:VEVENT
BEGIN:VTIMEZONE
TZID:Europe/Berlin
X-LIC-LOCATION:Europe/Berlin
BEGIN:DAYLIGHT
DTSTART:20230326T030000
TZOFFSETFROM:+0100
TZOFFSETTO:+0200
TZNAME:CEST
END:DAYLIGHT
END:VTIMEZONE
END:VCALENDAR