BEGIN:VCALENDAR
VERSION:2.0
PRODID:-//wp-events-plugin.com//7.2.3.1//EN
TZID:Europe/Berlin
X-WR-TIMEZONE:Europe/Berlin
BEGIN:VEVENT
UID:2604@frauenportal.koeln
DTSTART;TZID=Europe/Berlin:20220210T190000
DTEND;TZID=Europe/Berlin:20220210T210000
DTSTAMP:20220317T102408Z
URL:https://frauenportal.koeln/veranstaltungen/gender-equality-geschlechte
 rforschung-und-geschlechtergerechtigkeit-in-koeln/
SUMMARY:Gender Equality: Geschlechterforschung und Geschlechtergerechtigkei
 t in Köln
DESCRIPTION:"Gender Equality" ist das fünfte der 17 aktuellen Nachhaltigke
 itsziele der Vereinten Nationen\, den Sustainable Development Goals (SDGs)
 . Das Kölner FrauenForum als KölnAgenda-Gruppe setzt sich seit 1998 daf
 ür ein und richtet diesen SDG-5-Abend für das Bündnis Kommunale Nachhal
 tigkeit Köln aus. In drei spannenden Vorträgen wird das Thema aus unters
 chiedlichen Perspektiven beleuchtet:\n\nUniv.-Prof._in Dr. Susanne Völker
 \ngibt einen Einblick in aktuelle Forschungsergebnisse. Ihre Schwerpunkte 
 sind u.a. Materialitäten und Geschlecht: menschliche und nicht-menschlich
 e Technik- und Sorgeverhältnisse\; soziale Ungleichheiten und Gender-/Que
 erforschung: Interferenzen von Gender\, Sexuality\, Race\, Class\, Disabil
 ity.\nMehr dazu: www.hf.uni-koeln.de/32716\n\nDr. Thomas Gesterkamp\nbefas
 st sich als Sozial- und Politikwissenschaftler\, freier Journalist und Aut
 or mit Männer- und Väterforschung sowie Geschlechter- und Männerpolitik
 . An diesem Abend spricht er zu männergeschlechtlichen Rollen und deren V
 eränderungen in Arbeitswelt und Gesellschaft.\nMehr dazu: de.wikipedia.or
 g/wiki/Thomas_Gesterkamp \n\nDr. Marita Alami\nist in Köln frauenpolitisc
 h aktiv\, u.a. Kölner Frauenparlamente\, FrauenForum KölnAgenda\, Kölne
 r Netzwerke Frau und Wirtschaft\, Kölner Frauenportal\, Arbeitskreis Köl
 ner Frauenvereinigungen - AKF Köln\, AK Kölner Vorbildunternehmerinnen. 
 Sie spricht zu den Zielen von Gender Equality auf Kölner Ebene und auf we
 lchen Wegen diese durch lokale Organisationen wie das Kölner FrauenForum 
 und seine PartnerInnen vorangebracht werden.  \n\nDurch den Abend führt: 
 Dr. Kathrin Schnaufer\n\nHier ist die Einladung: Einladung SDG-5-Abend 10.
 02.2022 (pdf-Datei\, 162 KB)\n\nVeranstalterinnen:\nVHS Köln\, www.vhs-ko
 eln.de\nBündnis Kommunale Nachhaltigkeit Köln\, www.koelnglobalnachhalti
 g.de\nFrauenForum KölnAgenda\n\nAnsprechpartnerin:\nMarita Alami\, Tel: 0
 221 / 1397550\, E-Mail: marita.alami@forumf.de  \n\nKosten / Anmeldung:\nD
 ie Veranstaltung ist kostenfrei\, eine Anmeldung ist nicht erforderlich.\n
 \nVeranstaltungsort:\nAufgrund der aktuellen Situation findet die Veransta
 ltung ausschließlich im kosten- und zugangsfreien Livestream auf YouTube 
 statt: https://t1p.de/pjz4 (=www.youtube.com/channel/UCbgrQVPWOkL4vOYK_hqn
 blA)\nWer bei YouTube registriert ist\, kann sich dort auch im Chat beteil
 igen.\n
END:VEVENT
BEGIN:VTIMEZONE
TZID:Europe/Berlin
X-LIC-LOCATION:Europe/Berlin
BEGIN:STANDARD
DTSTART:20211031T020000
TZOFFSETFROM:+0200
TZOFFSETTO:+0100
TZNAME:CET
END:STANDARD
END:VTIMEZONE
END:VCALENDAR