BEGIN:VCALENDAR
VERSION:2.0
PRODID:-//wp-events-plugin.com//7.2.3.1//EN
TZID:Europe/Berlin
X-WR-TIMEZONE:Europe/Berlin
BEGIN:VEVENT
UID:1813@frauenportal.koeln
DTSTART;TZID=Europe/Berlin:20190308T173000
DTEND;TZID=Europe/Berlin:20190308T203000
DTSTAMP:20241115T125927Z
URL:https://frauenportal.koeln/veranstaltungen/genitalverstuemmelung-und-g
 ewalt-an-frauen/
SUMMARY:Genitalverstümmelung und Gewalt an Frauen
DESCRIPTION:Informationsveranstaltung und Podiumsdiskussion am Weltfrauenta
 g.\n\nAn diesem Abend soll gemeinsam ein Zeichen gegen Gewalt\, Unterdrüc
 kung und Genitalverstümmelung gesetzt werden.\n\nDer Abend wird moderiert
  von der Journalistin und Islamwissenschaftlerin Kadriye Acar.\n\nReferent
 innen:\nFadumo Korn\, Aktivistin und Autorin\, www.faduma-korn.de\nSonja B
 läser\, Gründerin und Leitung des Vereins HennaMond\, Wikipedia\n\nVeran
 stalterin:\nHennamond – Mut\, Rat und Lebenshilfe e.V.\, www.hennamond.d
 e\n\nAnsprechpartnerin:\nSonja Bläser\, Tel.: 0221 / 169 93 101\, E-Mail:
  info@hennamond-verein.de\n\nKosten / Anmeldung:\nEintritt: 3 Euro.\n\nVer
 anstaltungsort:\nHumanwissenschaftliche Fakultät der Universität zu Köl
 n\, Aula 3\, Gronewaldstr. 2\, 50931 Köln\, [map id=1040]
END:VEVENT
BEGIN:VTIMEZONE
TZID:Europe/Berlin
X-LIC-LOCATION:Europe/Berlin
BEGIN:STANDARD
DTSTART:20181028T020000
TZOFFSETFROM:+0200
TZOFFSETTO:+0100
TZNAME:CET
END:STANDARD
END:VTIMEZONE
END:VCALENDAR