BEGIN:VCALENDAR
VERSION:2.0
PRODID:-//wp-events-plugin.com//7.2.3.1//EN
TZID:Europe/Berlin
X-WR-TIMEZONE:Europe/Berlin
BEGIN:VEVENT
UID:3706@frauenportal.koeln
DTSTART;TZID=Europe/Berlin:20220430T140000
DTEND;TZID=Europe/Berlin:20220430T180000
DTSTAMP:20220426T074545Z
URL:https://frauenportal.koeln/veranstaltungen/gewalt-gegen-frauen-und-mae
 dchen-politik-kann-mehr-tun-politik-muss-mehr-tun/
SUMMARY:Gewalt gegen Frauen und Mädchen - Politik kann mehr tun\, Politik 
 muss mehr tun!
DESCRIPTION:FRAUENPOLITIK GESTERN – HEUTE – MORGEN\n\nDas zentrale Them
 a vom Bündnis autonomer Frauenprojekte gegen Gewalt steht im Mittelpunkt 
 der Podiumsdiskussion mit Landtagskandidat*innen und Vertreterinnen von LI
 LA IN KÖLN. Im Vorfeld der NRW-Landtagswahl wollen sie wesentliche Forder
 ungen skizzieren und gemeinsam mit den Anwesenden herausfinden\, welchen S
 tellenwert der Kampf gegen Gewalt an Frauen und Mädchen in den Parteiprog
 rammen hat. Moderation: Beate Hinrichs.\n\n14 Uhr: Film „Die Unbeugsamen
 “ (de.wikipedia.org/wiki/Die_Unbeugsamen)\n\n16 Uhr: Podiumsdiskussion m
 it Kölner Landtagskandidat*innen und Vertreterinnen von LILA IN KÖLN. Mo
 deration: Birgit Hinrichs\n\nHier ist die Einladung: Flyer Veranstaltung 3
 0.4.2022 (pdf-Datei\, 859 KB)\n\nVeranstalterinnen:\nLila in Köln – Bü
 ndnis autonomer Frauenprojekte gegen Gewalt\n\nKontakt:\nIrmgard Kopetzky\
 , Tel.: 0221 / 562035\, E-Mail: mailbox@notruf-koeln.de\n\nKosten / Anmeld
 ung:\nEintritt Film: 5 € (Tickets über das Filmhaus\, Tel. 0221/3377051
 5 oder kino@filmhaus-koeln.de).\nPodiumsdiskussion: Eintritt frei\n\nVeran
 staltungsort:\nFilmhaus Köln\, Maybachstr. 111\, 50670 Köln\, [map id=17
 208]
END:VEVENT
BEGIN:VTIMEZONE
TZID:Europe/Berlin
X-LIC-LOCATION:Europe/Berlin
BEGIN:DAYLIGHT
DTSTART:20220327T030000
TZOFFSETFROM:+0100
TZOFFSETTO:+0200
TZNAME:CEST
END:DAYLIGHT
END:VTIMEZONE
END:VCALENDAR