BEGIN:VCALENDAR
VERSION:2.0
PRODID:-//wp-events-plugin.com//7.2.3.1//EN
TZID:Europe/Berlin
X-WR-TIMEZONE:Europe/Berlin
BEGIN:VEVENT
UID:539@frauenportal.koeln
DTSTART;TZID=Europe/Berlin:20171110T180000
DTEND;TZID=Europe/Berlin:20171110T200000
DTSTAMP:20170928T150414Z
URL:https://frauenportal.koeln/veranstaltungen/gewaltschutz-am-arbeitsplat
 z/
SUMMARY:Gewaltschutz am Arbeitsplatz
DESCRIPTION:Informationsabend.\n\nArbeit\, Ausbildung\, Studium… einen Gr
 oßteil unserer Zeit verbringen wir im beruflichen Alltag. Gewalt gegen Fr
 auen begegnet uns auch dort in Form von Mobbing\, sexualisierter Gewalt\, 
 physischer und psychischer Gewalt jeglicher Art. Jede Gewalttat hat Folgen
  für die Betroffene. Bei Gewalt am Arbeitsplatz kommt häufig die Sorge u
 m den Arbeitsplatz hinzu. Betroffene schweigen\, sind unsicher\, welche Re
 chte sie haben und wo sie Unterstützung finden können. Der Infoabend sol
 l interessierten Frauen einen Überblick geben über die Besonderheiten be
 i Gewalt im Abhängigkeitsverhältnis "Arbeitsplatz".\n\nReferentin: \nKar
 ina Feldmann\n\nVeranstalterin:\nFrauenLeben e.V. Köln\, Frauenberatungss
 telle\n\nAnsprechpartnerin:\nMargret Schnetgöke\, Tel.: 0221 / 954 16 60\
 , E-Mail: mail@frauenleben.org\n\nKosten / Anmeldung:\nKeine Anmeldung erf
 orderlich. Das Angebot ist kostenfrei.\n\nVeranstaltungsort:\nFrauenLeben\
 , Venloer Str. 405 - 407\, 50825 Köln\, [map id=889] 
END:VEVENT
BEGIN:VTIMEZONE
TZID:Europe/Berlin
X-LIC-LOCATION:Europe/Berlin
BEGIN:STANDARD
DTSTART:20171029T020000
TZOFFSETFROM:+0200
TZOFFSETTO:+0100
TZNAME:CET
END:STANDARD
END:VTIMEZONE
END:VCALENDAR