BEGIN:VCALENDAR
VERSION:2.0
PRODID:-//wp-events-plugin.com//7.2.3.1//EN
TZID:Europe/Berlin
X-WR-TIMEZONE:Europe/Berlin
BEGIN:VEVENT
UID:2863@frauenportal.koeln
DTSTART;TZID=Europe/Berlin:20201003T140000
DTEND;TZID=Europe/Berlin:20201003T160000
DTSTAMP:20200930T125443Z
URL:https://frauenportal.koeln/veranstaltungen/gezaehmte-goettin-geile-gri
 et-3/
SUMMARY:Gezähmte Göttin – Geile Griet 
DESCRIPTION:– Darstellung von Frauen im Stadtbild –\n\nEin Spaziergang 
 durch Köln lohnt sich unter vielen Gesichtspunkten. In diesem Fall geht e
 s um die Darstellung von Frauen (und Männern) im öffentlichen Raum\; sei
  es als Heilige\, Sagengestalt\, Nackte\, Liedfigur oder kunstgeschichtlic
 hes Objekt. Dabei werden Geschichten hinter den Skulpturen 'enthüllt' und
  das räumliche Setting einbezogen.\n\nWie wird Colonia wiedergegeben? Hal
 fen die Heinzelmännchen wirklich nur den Männern? Wie verlief der Kampf 
 um eine angemessene Zahl von weiblichen Ratsturmfiguren? Und warum sind Na
 ckte in Einkaufspassagen und Parks völlig unauffällig?\n\nVeranstalterin
 :\nKölner Frauengeschichtsverein e.V.\n\nKontakt:\nTel.: 0221 / 24 82 65\
 , E-Mail: info@frauengeschichtsverein.de\n\nKosten / Anmeldung:\nKostenbei
 trag: 15 Euro (coronabedingt)\nAnmeldung erforderlich!\n\nVeranstaltungsor
 t:\nTreffpunkt: vor dem Domforum\, Domkloster 3\, 50667 Köln\, [map id=10
 15]
END:VEVENT
BEGIN:VTIMEZONE
TZID:Europe/Berlin
X-LIC-LOCATION:Europe/Berlin
BEGIN:DAYLIGHT
DTSTART:20200329T030000
TZOFFSETFROM:+0100
TZOFFSETTO:+0200
TZNAME:CEST
END:DAYLIGHT
END:VTIMEZONE
END:VCALENDAR