BEGIN:VCALENDAR
VERSION:2.0
PRODID:-//wp-events-plugin.com//7.2.3.1//EN
TZID:Europe/Berlin
X-WR-TIMEZONE:Europe/Berlin
BEGIN:VEVENT
UID:3678@frauenportal.koeln
DTSTART;TZID=Europe/Berlin:20220308T090000
DTEND;TZID=Europe/Berlin:20220308T150000
DTSTAMP:20241115T125331Z
URL:https://frauenportal.koeln/veranstaltungen/girls-only-am-weltfrauentag
 -handwerk-ist-hier-maedchensache/
SUMMARY:(IFT) Girls only am Weltfrauentag: Handwerk ist hier Mädchensache!
DESCRIPTION:Aus der Einladung:\n\n"Du hast Lust\, deine handwerklichen Fäh
 igkeiten zu erproben und den Umgang mit Werkzeugen und Maschinen auszuprob
 ieren? Du interessierst dich für die vielfältigen Berufe im Handwerk? Da
 nn bist du im Holz-Praxiskurs genau richtig!\n\nAm Weltfrauentag zeigen di
 r Jenny und Bine vom Handwerkerinnenhaus Köln\, wieviel Spaß und Erfolg 
 Mädchen und junge Frauen im Handwerk haben können! Du baust zusammen mit
  den beiden Tischlerinnen einen Hocker mit klassischer Holzverbindung\, de
 n du anschließend mit nach Hause nehmen darfst.\n\nAußerdem erfährst du
  von Sozialpädagogin Hanna vom Handwerkerinnenhaus und unserer Karriereco
 achin Tanja in einer 45-minütigen Berufsorientierung mehr über die vielf
 ältigen Berufe im Handwerk. Gemeinsam sprecht ihr über Klischees bei der
  Berufswahl und wie wir diese ändern können.\n\nKlingt spannend? Dann ka
 nnst du dich hier ganz einfach anmelden.\n\nAm Weltfrauentag setzen wir ge
 meinsam ein Zeichen: Handwerk ist auch Frauensache!"\n\nVeranstalterinnen:
 \nHandwerkerinnenhaus Köln e.V. und Handwerkskammer zu Köln\, www.hwk-ko
 eln.de\n\nAnsprechpartnerin:\nAnna-Sophia Brandhorst\, Tel.: 0221 / 2022-4
 82 \, E-Mail: anna-sophia.brandhorst@hwk-koeln.de\n\nAnmeldung:\nAnmeldefr
 ist: 16.02.2022 bis 07.03.2022\nAbneldung unter: www.hwk-koeln.de/termine/
 anmeldung-32\,1006\,evereg.html?op=start&amp\;eve=760\n\nVeranstaltungsort
 :\nAusbildungsCampus der Handwerkskammer zu Köln\, Hugo-Eckener-Str. 16\,
  50829 Köln\, [map id=17387]
END:VEVENT
BEGIN:VTIMEZONE
TZID:Europe/Berlin
X-LIC-LOCATION:Europe/Berlin
BEGIN:STANDARD
DTSTART:20211031T020000
TZOFFSETFROM:+0200
TZOFFSETTO:+0100
TZNAME:CET
END:STANDARD
END:VTIMEZONE
END:VCALENDAR