BEGIN:VCALENDAR
VERSION:2.0
PRODID:-//wp-events-plugin.com//7.2.3.1//EN
TZID:Europe/Berlin
X-WR-TIMEZONE:Europe/Berlin
BEGIN:VEVENT
UID:3859@frauenportal.koeln
DTSTART;TZID=Europe/Berlin:20220811T173000
DTEND;TZID=Europe/Berlin:20220811T193000
DTSTAMP:20220809T122804Z
URL:https://frauenportal.koeln/veranstaltungen/gleichstellung-von-maenner-
 und-frauen-koelns-haushalt-soll-gendergerecht-werden/
SUMMARY:Gleichstellung von Männer und Frauen – Kölns Haushalt soll gend
 ergerecht werden
DESCRIPTION:Der Termin findet nicht statt. Die Veranstaltung wird zu einem 
 späteren Zeitpunkt nachgeholt.Der Gleichstellungsausschuss im Rat der Sta
 dt Köln hat im Januar 2022 beschlossen\, das sogenannte Gender Budgeting 
 einzuführen. Gemeint ist damit ein gendergerechter Haushaltsplan\, der di
 e Gleichstellung von Frauen und Männern fördert.\n\nWie steht es aber be
 i der Stadt Köln um Gender Mainstreaming?\n\nFür die Erreichung einer ta
 tsächlichen Gleichstellung und den Abbau von Benachteiligungen braucht es
  eine Gender-Strategie\, die bei allen Planungen und Entscheidungen die Be
 lange von Frauen und Männern konsequent in den Blick nimmt.\n\nHier ist d
 ie Einladung: DGB-Frauen_Köln_Gender Budgeting_11.08.2022 (pdf-Datei: 179
  KB)\n\nReferentin:\nDr. Marita Alami\, stellv. Vorsitzende Arbeitskreis K
 ölner Frauenvereinigungen und aktiv im FrauenForum KölnAgenda\n\nVeranst
 alterin:\nDGB Stadtfrauenausschuss\n\nAnsprechpartnerin:\nKarin Bernhardt\
 , Gewerkschaftssekretärin\, Tel.: 0221 / 500032-18\, E-Mail: karin.bernha
 rdt@dgb.de\n\nKosten / Anmeldung:\nFür die Planung wird um Anmeldung gebe
 ten bis spätestens zum 9. August unter koeln@dgb.de.\n\nVeranstaltungsort
 :\nDGB-Haus\, Großer Saal (1. Etage)\, Hans-Böckler Platz 1\, 50672 Köl
 n\, [map id=882] 
END:VEVENT
BEGIN:VTIMEZONE
TZID:Europe/Berlin
X-LIC-LOCATION:Europe/Berlin
BEGIN:DAYLIGHT
DTSTART:20220327T030000
TZOFFSETFROM:+0100
TZOFFSETTO:+0200
TZNAME:CEST
END:DAYLIGHT
END:VTIMEZONE
END:VCALENDAR