BEGIN:VCALENDAR
VERSION:2.0
PRODID:-//wp-events-plugin.com//7.2.3.1//EN
TZID:Europe/Berlin
X-WR-TIMEZONE:Europe/Berlin
BEGIN:VEVENT
UID:5725@frauenportal.koeln
DTSTART;TZID=Europe/Berlin:20250907T190000
DTEND;TZID=Europe/Berlin:20250907T210000
DTSTAMP:20250715T101658Z
URL:https://frauenportal.koeln/veranstaltungen/gluecksorte-in-ligurien/
SUMMARY:Glücksorte in Ligurien
DESCRIPTION:Lesung\, Talk &amp\; Live-Musik mit Anne Fink und Stephan Falk 
  über Ligurien.\n \nEin Hauch von Dolce Vita weht am Sonntag\, dem 7. Sep
 tember 2025 ab 19.00 Uhr\, durch den Hinterhofsalon: Die Autor:innen Anne 
 Fink und Stephan Falk laden zu einer besonderen Lesung aus ihrem Buch „G
 lücksorte in Ligurien“ ein – begleitet von einem unterhaltsamen Talk\
 , vielen Fotos und stimmungsvoller Live-Musik italienischer Evergreens. Ei
 n Abend voller Lebensfreude. \n \nMit ihrem Buch nehmen Anne Fink und Step
 han Falk das Publikum mit auf eine literarische Reise an die traumhafte li
 gurische Küste – von malerischen Dörfern hin zu versteckten Lieblingsp
 lätzen. Sie erzählen von Orten\, die das Herz höherschlagen lassen\, un
 d verraten ihre persönlichen Geheimtipps. Doch nicht nur das geschriebene
  Wort entführt nach Italien: Die musikalische Begleitung sorgt mit Klassi
 kern aus Bella Italia und einer großen Auswahl von Fotos für das perfekt
 e Urlaubsgefühl.\n\nUm Italien sich auch auf der Zunge zergehen zu lassen
 \, werden italienische Köstlichkeiten angeboten. Eine Genussreise für al
 le Sinne!\n\nEintritt: 25\,00 € inkl. 1 Glas Wein / Aperitivo und italie
 nisches Fingerfood\nVVK: www.koelnticket.de/eventseries/gluecksort-in-ligu
 rien-lesung-talk-live-musik-3878350/
END:VEVENT
BEGIN:VTIMEZONE
TZID:Europe/Berlin
X-LIC-LOCATION:Europe/Berlin
BEGIN:DAYLIGHT
DTSTART:20250330T030000
TZOFFSETFROM:+0100
TZOFFSETTO:+0200
TZNAME:CEST
END:DAYLIGHT
END:VTIMEZONE
END:VCALENDAR