BEGIN:VCALENDAR
VERSION:2.0
PRODID:-//wp-events-plugin.com//7.2.3.1//EN
TZID:Europe/Berlin
X-WR-TIMEZONE:Europe/Berlin
BEGIN:VEVENT
UID:3682@frauenportal.koeln
DTSTART;TZID=Europe/Berlin:20220203T170000
DTEND;TZID=Europe/Berlin:20220203T183000
DTSTAMP:20220228T183010Z
URL:https://frauenportal.koeln/veranstaltungen/goettinnen-muetter-ahninnen
 -frauenthemen-im-rauenstrauch-joest-museum-2/
SUMMARY:Göttinnen\, Mütter\, Ahninnen – Frauenthemen im Rauenstrauch-Jo
 est-Museum
DESCRIPTION:Welche Rollen spielen Frauen in unserer und in fremden Kulturen
 ? Frühe Ethnologinnen entwickelten eigene Arbeitsweisen und Themen\, was 
 sich im Rautenstrauch-Joest-Museum widerspiegelt. Die Dauerausstellung zei
 gt Frauen als machtvolle Mütter\, geschmückte Bräute\, Hüterinnen der 
 Herden\, großartige Künstlerinnen\, kriegerische Göttinnen und große A
 hninnen. Sie fragt weiter\, wie wir mit Vorurteilen umgehen.\n\nVeranstalt
 erin:\nKölner Frauengeschichtsverein e.V.\n\nKontakt:\nTel.: 0221 / 24 82
  65\, E-Mail: info@frauengeschichtsverein.de\n\nKosten / Anmeldung:\nKoste
 nbeitrag: 12 Euro zzgl. Museumseintritt für Nicht-KölnerInnen (Bitte Per
 sonalausweis mitbringen)\nCorona-Status: 2 G - Ausweiskontrolle - Maskenpf
 licht - Abstand\nUm Anmeldung wird gebeten.\n\nVeranstaltungsort:\nTreffpu
 nkt: vor der Kasse des Rautenstrauch-Joest-Museums\, Cäcilienstr. 29-33\,
  50667 Köln\, [map id=927]
END:VEVENT
BEGIN:VTIMEZONE
TZID:Europe/Berlin
X-LIC-LOCATION:Europe/Berlin
BEGIN:STANDARD
DTSTART:20211031T020000
TZOFFSETFROM:+0200
TZOFFSETTO:+0100
TZNAME:CET
END:STANDARD
END:VTIMEZONE
END:VCALENDAR