BEGIN:VCALENDAR
VERSION:2.0
PRODID:-//wp-events-plugin.com//7.2.3.1//EN
TZID:Europe/Berlin
X-WR-TIMEZONE:Europe/Berlin
BEGIN:VEVENT
UID:2909@frauenportal.koeln
DTSTART;TZID=Europe/Berlin:20201210T170000
DTEND;TZID=Europe/Berlin:20201210T183000
DTSTAMP:20241115T122638Z
URL:https://frauenportal.koeln/veranstaltungen/gottesdienst-zum-tag-der-me
 nschenrechte-orange-days/
SUMMARY:Gottesdienst zum Tag der Menschenrechte - Orange Days
DESCRIPTION:In diesem Gottesdienst wird auch der aktuelle Fall der deutsch-
 iranischen Architektin Nahid Taghavi benannt werden und die UN-Resolution 
 zur Erklärung der Menschenrechte bedacht. Geleitet wird der Gottesdienst 
 von den Pfarrer*innen Almuth Voss\, Dorothee Schaper und Martin Gröger\, 
 Kantor Thomas Frerichs.\n\nHier ist die Einladung: 10.12.20_Gottesdienst_M
 enschenrechte (pdf-Datei\, 112 KB)\n\nVeranstalterinnen:\nFrauenreferat un
 d Frauenbeauftragte der Ev. Kirche in gemeinsamer Trägerschaft mit der Ge
 meinde der Kartäuserkirche\, www.kartaeuserkirche-koeln.de\n\nAnsprechpar
 tnerin:\nDorothee Schaper\, Tel.: 0221 / 931803-28\, E-Mail: schaper@melan
 chthon-akademie.de\n\nVeranstaltungsort:\nKartäuserkirche\, Kartäusergas
 se 7\, 50678 Köln\, [map id=12019]
END:VEVENT
BEGIN:VTIMEZONE
TZID:Europe/Berlin
X-LIC-LOCATION:Europe/Berlin
BEGIN:STANDARD
DTSTART:20201025T020000
TZOFFSETFROM:+0200
TZOFFSETTO:+0100
TZNAME:CET
END:STANDARD
END:VTIMEZONE
END:VCALENDAR