BEGIN:VCALENDAR
VERSION:2.0
PRODID:-//wp-events-plugin.com//7.2.3.1//EN
TZID:Europe/Berlin
X-WR-TIMEZONE:Europe/Berlin
BEGIN:VEVENT
UID:5025@frauenportal.koeln
DTSTART;TZID=Europe/Berlin:20240504T200000
DTEND;TZID=Europe/Berlin:20240504T223000
DTSTAMP:20240404T122554Z
URL:https://frauenportal.koeln/veranstaltungen/grottenehrlich/
SUMMARY:Grottenehrlich
DESCRIPTION:Kabarett mit Hildegart Scholten -\nIhr grandioses grottenehrlic
 hes Soloprogramm mit Musiker am Piano. \n\nHildegart Scholten ist die Meis
 terin des Momentes\, eine Liebhaberin der kleinen Augenblicke\, der besond
 eren Situationen und der großen Absurditäten. Sie ist eine Stilikone. \n
 Hildegart Scholten präsentiert Gefühlskunst in freiester Form und mit ho
 hem artistischem (Selbst-)Bewußtsein. Frau Scholten\, die Humorkönigin d
 er Comedy-Queens\, zeigt mit großer Freiheit und Empathie\, wie sie verko
 rkstes Leben in Kunst verwandelt. \nEben noch verführt sie Dich mit unver
 gleichlichem kommunikativen Talent und dann schenkt Sie Dir mit großem mu
 sikalischen Gefühl ein hinreißend stimmgewaltiges Lied.\n\n"Grottenehrli
 ch": hier stellt sich Hildegart Scholten vor und erzählt aus ihrem Leben 
 und von ihrer Herkunft. In diesem Soloprogramm hat es die scheinbar unsche
 inbare Hildegart faustdick hinter den Ohren. In tiefgründigen Liedern\, m
 it ungeheuer ehrlichen Texten verzaubert sie ihr Publikum. In ihrer vollko
 mmenen Unvollkommenheit gewinnt sie die Herzen der Menschen. \n\nEin Blick
  - ein Wort. Gekonnt schafft sie Situationen\, Gefühle und jeder Abend mi
 t ihr ist anders. \n\nEintritt: 22 €\, erm. 18 €\, Abendkasse 25 €\n
 VVK: www.koelnticket.de/event/grottenehrlich-kabarett-mit-hildegart-scholt
 en-hinterhofsalon-18141130/
END:VEVENT
BEGIN:VTIMEZONE
TZID:Europe/Berlin
X-LIC-LOCATION:Europe/Berlin
BEGIN:DAYLIGHT
DTSTART:20240331T030000
TZOFFSETFROM:+0100
TZOFFSETTO:+0200
TZNAME:CEST
END:DAYLIGHT
END:VTIMEZONE
END:VCALENDAR