BEGIN:VCALENDAR
VERSION:2.0
PRODID:-//wp-events-plugin.com//7.2.3.1//EN
TZID:Europe/Berlin
X-WR-TIMEZONE:Europe/Berlin
BEGIN:VEVENT
UID:4360@frauenportal.koeln
DTSTART;TZID=Europe/Berlin:20230919T190000
DTEND;TZID=Europe/Berlin:20230919T210000
DTSTAMP:20230728T130733Z
URL:https://frauenportal.koeln/veranstaltungen/gruende-dein-smartes-busine
 ss/
SUMMARY:Gründe dein smartes Business
DESCRIPTION:Gemeinsam mit der Smart Business Expertin Stella Schneider wird
  betrachtet\, wie das eigene Geschäftskonzept strukturiert werden kann\, 
 um das volle Potenzial der Geschäftsidee und der eigenen Persönlichkeit 
 zu vereinen.\n\nInhalte:\n\n    \n	Wo kann ich bei meiner Gründung beginn
 en?\n\n   	Wie kann mir eine Produkt-Treppe® (www.smartbusinessconcepts.d
 e/produkt-treppe/ ) helfen\, Klarheit für meine Business-Struktur zu scha
 ffen?\n\n    	Welche Tools brauche ich für die Umsetzung meines smarten G
 eschäftskonzepts?\n\n\nVeranstalterinnen:\nBPW Germany Club Köln\n\nAnsp
 rechpartnerin:\nNyelete S. Gonçalves Chilenge\, E-Mail: bpw-koeln@web.de\
 n\nKosten /Anmeldung:\nMitglieder frei\, Interessentinnen 9 Euro.\n\nVeran
 staltungsort:\nonline
END:VEVENT
BEGIN:VTIMEZONE
TZID:Europe/Berlin
X-LIC-LOCATION:Europe/Berlin
BEGIN:DAYLIGHT
DTSTART:20230326T030000
TZOFFSETFROM:+0100
TZOFFSETTO:+0200
TZNAME:CEST
END:DAYLIGHT
END:VTIMEZONE
END:VCALENDAR