BEGIN:VCALENDAR
VERSION:2.0
PRODID:-//wp-events-plugin.com//7.2.3.1//EN
TZID:Europe/Berlin
X-WR-TIMEZONE:Europe/Berlin
BEGIN:VEVENT
UID:437@frauenportal.koeln
DTSTART;TZID=Europe/Berlin:20170706T181500
DTEND;TZID=Europe/Berlin:20170706T204500
DTSTAMP:20170616T065453Z
URL:https://frauenportal.koeln/veranstaltungen/hallo-clownin-kennenlernabe
 nd/
SUMMARY:Hallo Clownin! KennenlernAbend
DESCRIPTION:KennenlernAbendDie innere Clownin zu entdecken ist ein möglich
 er Weg\, den Kontakt in uns lebendig werden zu lassen\, der uns erlaubt\, 
 Lebensthemen und Alltagssituationen aus einer humorvollen Perspektive zu b
 etrachten.Negativ belegte Emotionen und hemmende Gedanken erfahren spieler
 isch eine konstruktive Wandlung. Die Übungen\, die Verspieltheit\, Narren
 freiheit und die Vielfalt der Ausdrucksmöglichkeiten fördern\, stärken 
 unsere Vitalität\, Lebensfreude und unseren Mut. Sie lehren uns\, sogenan
 nte Unzulänglichkeiten als eine energetisch wertvolle Spiel- und Wachstum
 smöglichkeit zu erleben. Darüber hinaus wird die Arbeit als CliniClownin
  angesprochen.Leitung: Denise MayKosten: 35\,00 EuroBitte kommen Sie in be
 quemer Kleidung und bringen Sie Turn-\, Gymnastikschlüppchen oder Stopper
 socken mit.Anmeldung und weitere Informationen: Denise May\, ClownsZeit 
 – Die Clownsschule für Frauen
END:VEVENT
BEGIN:VTIMEZONE
TZID:Europe/Berlin
X-LIC-LOCATION:Europe/Berlin
BEGIN:DAYLIGHT
DTSTART:20170326T030000
TZOFFSETFROM:+0100
TZOFFSETTO:+0200
TZNAME:CEST
END:DAYLIGHT
END:VTIMEZONE
END:VCALENDAR