BEGIN:VCALENDAR
VERSION:2.0
PRODID:-//wp-events-plugin.com//7.2.3.1//EN
TZID:Europe/Berlin
X-WR-TIMEZONE:Europe/Berlin
BEGIN:VEVENT
UID:5083@frauenportal.koeln
DTSTART;TZID=Europe/Berlin:20240608T110000
DTEND;TZID=Europe/Berlin:20240608T163000
DTSTAMP:20240531T114034Z
URL:https://frauenportal.koeln/veranstaltungen/hannah-arendt/
SUMMARY:Hannah Arendt
DESCRIPTION:Hannah Arendt wird als die größte Philosophin des 20. Jahrhun
 derts gesehen. Ihre Werke sind breit gefächert: scharfsinnig-kritische po
 litische Analysen\, Studien der Weltgeschichte und Dichtung. Die Gegenwart
  sieht sie als bedroht und bedrohlich. Ihre Antwort dazu lautet: Weltzugew
 andte Verantwortung und ein ethischer Entwurf für eine humane Gesellschaf
 t. Liebe und Freundschaft stehen bei ihr an vorderster Stelle.\n\nReferent
 in:\nDr. Hortense Reintjens-Anwari\, Profil:\nDr. phil. Dipl. theol.\, Stu
 dium der Geschichte und Kulturanthropologie (Fokus: Vorderer und Mittlerer
  Orient) und Theologie (Fokus: Philosophische Anthropologie). Langjährige
  Lehrtätigkeit an der Universität zu Köln. Zur Zeit Forschung und Semin
 are auf dem Gebiet der interkulturellen Philosophie und Spiritualität.\n\
 nVeranstalterin:\nBeginen Köln e.V.\n\nAnsprechpartnerin:\nChristine Müt
 hrath\, Tel.: 0221 / 9655820\, E-Mail: info@beginen.de\n\nKosten:\nAnmeldu
 ng erforderlich. Kostenbeitrag auf Spendenbasis.
LOCATION:Beginenhof Köln\, Unter Linden 119\, 50859 Köln
GEO:50.9636513;6.8421158
X-APPLE-STRUCTURED-LOCATION;VALUE=URI;X-ADDRESS=Unter Linden 119\, Köln\, 
 50859\, Veranstaltungsort\, Deutschland;X-APPLE-RADIUS=100;X-TITLE=Beginen
 hof Köln:geo:50.9636513,6.8421158
END:VEVENT
BEGIN:VTIMEZONE
TZID:Europe/Berlin
X-LIC-LOCATION:Europe/Berlin
BEGIN:DAYLIGHT
DTSTART:20240331T030000
TZOFFSETFROM:+0100
TZOFFSETTO:+0200
TZNAME:CEST
END:DAYLIGHT
END:VTIMEZONE
END:VCALENDAR