BEGIN:VCALENDAR
VERSION:2.0
PRODID:-//wp-events-plugin.com//7.2.3.1//EN
TZID:Europe/Berlin
X-WR-TIMEZONE:Europe/Berlin
BEGIN:VEVENT
UID:5378@frauenportal.koeln
DTSTART;TZID=Europe/Berlin:20241208T120000
DTEND;TZID=Europe/Berlin:20241208T133000
DTSTAMP:20241130T140501Z
URL:https://frauenportal.koeln/veranstaltungen/helke-sander-aufraeumen/
SUMMARY:Helke Sander: Aufräumen
DESCRIPTION:Vorführung des Films von Claudia Richarz\, D 2023\, 82 min.\n\
 nDie bekannte Regisseurin und Autorin Helke Sander ist eine Ikone – nich
 t nur der Frauenbewegung\, sondern auch des Neuen Deutschen Films.\n\nHist
 orische Umwälzungen brauchen machmal nur einen kleinen Impuls\, der die v
 ersteinerten Verhältnisse in Bewegung bringt. Helke Sander hat vor vielen
  Jahren eine solche erdrutschartige Veränderung in Deutschland ausgelöst
 . Viele Errungenschaften für Frauen hat sie angestoßen\, die uns heute s
 elbstverständlich erscheinen.\n\nClaudia Richarz spürt im Film nach\, wa
 s das für Sanders eigenes Lebensgefühl\, ihren Sohn und die Liebe bedeut
 en mag. Der Film verbindet eindrucksvolle Filmausschnitte aus Sanders Werk
  mit ihrem Leben. Hinter ihrer emanzipierten Haltung steht die kontinuierl
 iche Aufforderung\, nachzudenken\, vermeintliche Selbstverständlichkeiten
  nicht hinzunehmen und immer auf sich selbst zu hören.\n\nVeranstalterinn
 en:\nKölner Frauengeschichtsverein e.V. in Kooperation mit FEMINALE e.V.\
 n\nKontakt:\nTel.: 0221 / 24 82 65\, E-Mail: info@frauengeschichtsverein.
 de\n\nKosten:\nEintritt 10 €
LOCATION:Filmhaus Köln\, Maybachstr. 111\, 50670 Köln
GEO:50.949007;6.94952
X-APPLE-STRUCTURED-LOCATION;VALUE=URI;X-ADDRESS=Maybachstr. 111\, Köln\, 5
 0670\, Veranstaltungsort\, Deutschland;X-APPLE-RADIUS=100;X-TITLE=Filmhaus
  Köln:geo:50.949007,6.94952
END:VEVENT
BEGIN:VTIMEZONE
TZID:Europe/Berlin
X-LIC-LOCATION:Europe/Berlin
BEGIN:STANDARD
DTSTART:20241027T020000
TZOFFSETFROM:+0200
TZOFFSETTO:+0100
TZNAME:CET
END:STANDARD
END:VTIMEZONE
END:VCALENDAR