BEGIN:VCALENDAR
VERSION:2.0
PRODID:-//wp-events-plugin.com//7.2.3.1//EN
TZID:Europe/Berlin
X-WR-TIMEZONE:Europe/Berlin
BEGIN:VEVENT
UID:591@frauenportal.koeln
DTSTART;TZID=Europe/Berlin:20171111T110000
DTEND;TZID=Europe/Berlin:20171111T163000
DTSTAMP:20171031T162053Z
URL:https://frauenportal.koeln/veranstaltungen/helles-dunkel-heilschritte-
 in-die-innere-welt/
SUMMARY:Helles Dunkel - Heilschritte in die innere Welt
DESCRIPTION:Studientag\n\n„Leid ist Dunkel und Licht. In Krisen erreichen
  wir ungeahnte Tiefenschichten\, einen Horizont\, der vorher nicht war.“
   (Ruth Pfau\, 1929-2017)                  \n\nEin erfülltes Leben kommt 
 am Leid nicht vorbei. Die dunkle Wegstrecke kann als ein Wandlungsprozess 
 angenommen werden. Die ersten christlichen Eremiten der ägyptischen Wüst
 e erfahren eine Art depressive Stimmung „Akedia“\, zu der sie eine Bew
 ältigungsstrategie entwerfen. Der Praktiker Johannes Tauler zeigt einen k
 laren Weg zur Selbsterkenntnis als Durchbruch zum Licht auf.  Johannes vom
  Kreuz beschreibt einen zweifachen Wandlungsprozess. Die Depression ist ei
 ne alte Erscheinung und eine tiefgreifende Problematik in unserer westlich
 en Welt. Symptomatik und Heilschritte ähneln sich über zwei Jahrtausende
 .\n\nProgramm:\n\n11.00 – 13.00 Uhr \n1. Dunkle Wegstrecke „Akedia“ 
 bei den Wüstenvätern (ab 3. Jh.)\n2. „Göttliches Dunkel“ nach Johan
 nes Tauler (1300-1361)\n\n14.30 – 16.30 Uhr \n3. „Dunkle Nacht“ bei 
 Johannes vom Kreuz (1542-1591)\n4. „Dunkel“ im Lichte heutiger Psychot
 herapie\n\nReferentin:\nDr. Hortense Reintjens-Anwari\, Profil:\nDr. phil.
  Dipl. theol.\, Studium der Geschichte und Kulturanthropologie (Fokus: Vor
 derer und Mittlerer Orient) und Theologie (Fokus: Philosophische Anthropol
 ogie). Langjährige Lehrtätigkeit an der Universität zu Köln. Zur Zeit 
 Forschung und Seminare auf dem Gebiet der interkulturellen Philosophie und
  Spiritualität.\n\nVeranstalterin:\nBeginen Köln e.V.\n\nAnsprechpartner
 in:\nChristine Müthrath\, Tel.: 0221 / 9655820\, E-Mail: info@beginen.de\
 n\nKosten:\nAnmeldung erforderlich. Eintritt frei – Spende/Kostenbeitrag
  erbeten.\n\nVeranstaltungsort:\nBeginentreff im Beginenhof Köln\, Unter 
 Linden 119\, 50859 Köln\, [map id=1048]
END:VEVENT
BEGIN:VTIMEZONE
TZID:Europe/Berlin
X-LIC-LOCATION:Europe/Berlin
BEGIN:STANDARD
DTSTART:20171029T020000
TZOFFSETFROM:+0200
TZOFFSETTO:+0100
TZNAME:CET
END:STANDARD
END:VTIMEZONE
END:VCALENDAR