BEGIN:VCALENDAR
VERSION:2.0
PRODID:-//wp-events-plugin.com//7.2.3.1//EN
TZID:Europe/Berlin
X-WR-TIMEZONE:Europe/Berlin
BEGIN:VEVENT
UID:366@frauenportal.koeln
DTSTART;TZID=Europe/Berlin:20170430T140000
DTEND;TZID=Europe/Berlin:20170430T160000
DTSTAMP:20200501T083944Z
URL:https://frauenportal.koeln/veranstaltungen/hexenverfolgung-in-koeln-30
 -april-2017-sonntag/
SUMMARY:Hexenver­folgung in Köln 
DESCRIPTION:          \n\n  Ängste der frühen NeuzeitZwischen St. Andreas
  und Heumarkt wird die Geschichte der Frauen (und Männer) erzählt\, die 
 in Köln als 'Zauberinnen' oder 'Hexen' verfolgt wurden: Was machte eine F
 rau zur 'Hexe'? Waren wirtschaftliche Gründe ein Motiv bei der Verfolgung
 ? Welche Rolle spielten Frauen als Denunziantinnen? Was führte zum Abklin
 gen der Hexenverfolgung? Es wird der Weg konkreter Fälle vom "Gerede" in 
 der Stadt bis zum Arrest im Frankenturm\, von der 'peinlichen Befragung' z
 um Erzwingen von Geständnissen (Folter) bis zur spektakulären Vollstreck
 ung des Todesurteils nachvollzogen.Veranstalterin:Kölner Frauengeschichts
 verein e.V. Kontakt:Tel.: 0221 / 24 82 65\, E-Mail: eval(decodeURIComponen
 t('%76%61%72%20%73%3D%27%6E%69%6F%66%66%40%61%72%65%75%67%6E%73%65%68%63%6
 3%69%74%68%76%73%72%65%69%65%2E%6E%65%64%27%3B%76%61%72%20%72%3D%27%27%3B%
 66%6F%72%28%76%61%72%20%69%3D%30%3B%69%3C%73%2E%6C%65%6E%67%74%68%3B%69%2B
 %2B%2C%69%2B%2B%29%7B%72%3D%72%2B%73%2E%73%75%62%73%74%72%69%6E%67%28%69%2
 B%31%2C%69%2B%32%29%2B%73%2E%73%75%62%73%74%72%69%6E%67%28%69%2C%69%2B%31%
 29%7D%64%6F%63%75%6D%65%6E%74%2E%77%72%69%74%65%28%27%3C%61%20%68%72%65%66
 %3D%22%6D%61%69%6C%74%6F%3A%27%2B%72%2B%27%22%3E%69%6E%66%6F%40%66%72%61%7
 5%65%6E%67%65%73%63%68%69%63%68%74%73%76%65%72%65%69%6E%2E%64%65%3C%2F%61%
 3E%27%29%3B'))Kosten / Anmeldung:Kostenbeitrag: 10 EuroVeranstaltungsort:T
 reffpunkt: 14.00 Uhr vor dem Eingang von St. Andreas\, Komödienstr. 4-8\,
  50667 Köln\, Lageplan
END:VEVENT
BEGIN:VTIMEZONE
TZID:Europe/Berlin
X-LIC-LOCATION:Europe/Berlin
BEGIN:DAYLIGHT
DTSTART:20170326T030000
TZOFFSETFROM:+0100
TZOFFSETTO:+0200
TZNAME:CEST
END:DAYLIGHT
END:VTIMEZONE
END:VCALENDAR