BEGIN:VCALENDAR
VERSION:2.0
PRODID:-//wp-events-plugin.com//7.2.3.1//EN
TZID:Europe/Berlin
X-WR-TIMEZONE:Europe/Berlin
BEGIN:VEVENT
UID:2130@frauenportal.koeln
DTSTART;TZID=Europe/Berlin:20191128T180000
DTEND;TZID=Europe/Berlin:20191128T200000
DTSTAMP:20191007T151717Z
URL:https://frauenportal.koeln/veranstaltungen/hgnc-workshop-female-entrep
 reneurship/
SUMMARY:hgnc-Workshop: Female Entrepreneurship
DESCRIPTION:Für einen bewussten Umgang mit den Geschlechterklischees.\n\nD
 aten und Zahlen sagen: „Frauen gründen anders“. Das ist aber nicht na
 turgegeben\, sondern verursacht durch tief verwurzelte Vorstellungen über
  Weiblichkeit und Männlichkeit\, die sowohl in den Frauen selbst\, als au
 ch in ihrer Umwelt oft zu ihren Lasten zusammenwirken.\n\nIn diesem Worksh
 op soll das Bewusstsein dafür gestärkt werden\, wie und wo Rollenklische
 es wirken und wie Gründerinnen und Jungunternehmerinnen erfolgreich damit
  umgehen können.\n\nEine Übersicht zur Daten- und Faktenlage zeigt z.B.\
 , dass selbstständige Frauen in Deutschland tatsächlich noch recht exoti
 sch sind: Männer gründen in Deutschland fast doppelt so viel wie Frauen.
 \n\nAlso müssen sie sich gut vernetzen. Wie das geht und welche Stolperfa
 llen auch hier die Geschlechterklischees bereit halten\, wird lebensnah ge
 zeigt.\n\nAbschließend geht es um einschlägige Netzwerke und Angebote f
 ür gründungsinteressierte Frauen\, Gründerinnen und Jungunternehmerinne
 n in Köln.\n\nMarita Alami hat an der Uni Köln Geisteswissenschaften stu
 diert und darin auch promoviert. Seit der Jugend ehrenamtlich engagiert\, 
 bildete sie sich umfassend zur Managerin im gemeinnützigen Sektor weiter.
  Seit 1996 sammelt sie kontinuierlich Erfahrungen mit Frauennetzwerken und
  -vereinigungen\; seit 1997 ist sie freiberuflich tätig in den Bereichen 
 Sozialmanagement\, Online-Kommunikation und Weiterbildung.\n\nVeranstalter
 in:\nhochschulgründernetz cologne e.V.\, www.hgnc.de\n\nKontakt:\nDr. Mar
 ita Alami\, Tel.: 0221 / 1397550\, E-Mail: marita.alami@forumf.de\n\nKoste
 n / Anmeldung:\nFür Studierende\, MitarbeiterInnen und WissenschaftlerInn
 en der Mitglieder des hgnc e.V. kostenlos. Anmeldung online unter: https:/
 /www.hgnc.de/veranstaltung/female-entrepreneurship-fuer-einen-bewussten-um
 gang-mit-den-geschlechterklischees/\n\nVeranstaltungsort:\nCBS Cologne Bus
 iness School\, Hardefuststr. 1\, 50677 Köln\, [map id=14781]
END:VEVENT
BEGIN:VTIMEZONE
TZID:Europe/Berlin
X-LIC-LOCATION:Europe/Berlin
BEGIN:STANDARD
DTSTART:20191027T020000
TZOFFSETFROM:+0200
TZOFFSETTO:+0100
TZNAME:CET
END:STANDARD
END:VTIMEZONE
END:VCALENDAR