BEGIN:VCALENDAR
VERSION:2.0
PRODID:-//wp-events-plugin.com//7.2.3.1//EN
TZID:Europe/Berlin
X-WR-TIMEZONE:Europe/Berlin
BEGIN:VEVENT
UID:5827@frauenportal.koeln
DTSTART;TZID=Europe/Berlin:20251127T183000
DTEND;TZID=Europe/Berlin:20251127T213000
DTSTAMP:20251128T133255Z
URL:https://frauenportal.koeln/veranstaltungen/hidden-figures-kinoabend-fu
 er-flinta/
SUMMARY:"Hidden Figures" – Kinoabend für FLINTA*
DESCRIPTION:Ein Abend für Solidarität und Sichtbarkeit. \n\nDer Film zeig
 t\, wie Frauen* mehrfach durch Rassismus und Patriarchat benachteiligt wer
 den und wie wichtig gemeinsamer Widerstand ist.\n(de.wikipedia.org/wiki/Hi
 dden_Figures_–_Unerkannte_Heldinnen)\n\nHier ist die Einladung: Flyer_Fi
 lmabend_27.11.2025 (pdf-Datei\, 132 KB)\n\nVeranstalterin:\nArbeitskreis "
 Gegen Gewalt an Frauen"\, www.stadt-koeln.de/arbeitskreis-gegen-gewalt\n\n
 Kosten / Anmeldung:\nDer Eintritt ist kostenlos dank einer Förderung des 
 Ministeriums für Kinder\, Jugend\, Familie\, Gleichstellung\, Flucht und 
 Integration des Landes Nordrhein-Westfalen. Informationen zur Ticketbuchun
 g: orange.koeln
LOCATION:Cinenova Kino\, Herbrandstr. 11\, 50825 Köln
GEO:50.9516938;6.9109788
X-APPLE-STRUCTURED-LOCATION;VALUE=URI;X-ADDRESS=Herbrandstr. 11\, Köln\, 5
 0825\, Veranstaltungsort\, Deutschland;X-APPLE-RADIUS=100;X-TITLE=Cinenova
  Kino:geo:50.9516938,6.9109788
END:VEVENT
BEGIN:VTIMEZONE
TZID:Europe/Berlin
X-LIC-LOCATION:Europe/Berlin
BEGIN:STANDARD
DTSTART:20251026T020000
TZOFFSETFROM:+0200
TZOFFSETTO:+0100
TZNAME:CET
END:STANDARD
END:VTIMEZONE
END:VCALENDAR