BEGIN:VCALENDAR
VERSION:2.0
PRODID:-//wp-events-plugin.com//7.2.3.1//EN
TZID:Europe/Berlin
X-WR-TIMEZONE:Europe/Berlin
BEGIN:VEVENT
UID:4388@frauenportal.koeln
DTSTART;TZID=Europe/Berlin:20230915T153000
DTEND;TZID=Europe/Berlin:20230915T170000
DTSTAMP:20230830T135047Z
URL:https://frauenportal.koeln/veranstaltungen/hildegard-von-bingen-vision
 aerin-bis-heute/
SUMMARY:Hildegard von Bingen – Visionärin bis heute
DESCRIPTION:Die Veranstaltung „Hildegard von Bingen – Visionärin bis h
 eute“ lädt mit einem Impulsvortrag\, mitreißender Musik und aufschluss
 reichen Gesprächen mit Sr. Philippa Rath OSB\, Gertrud Granel und Sylvia 
 Dörnemann zu einem spannenden Event ein. Es kann sich vertieft werden in 
 die bleibende Bedeutung von Hildegards visionärem Vermächtnis und ihre t
 iefgreifenden Erkenntnisse.\n\nVeranstalterin:\nKatholische Frauengemeinsc
 haft Deutschlands (kfd) Diözesanverband Köln e.V.\nin Kooperation mit de
 m Frauenmuseum\n\nAnsprechpartnerin:\nAndrea Monschau\, Tel.: 0221 / 1642-
 1545\, E-Mail: info@kfd-koeln.de\n\nKosten / Anmeldung:\nTeilnahmegebühr:
 12 € für Interessierte\, 8 € für kfd-Mitglieder. \nAnmeldung unter w
 ww.kfd-koeln.de/termine/veranstaltung/Hildegard-von-Bingen-Visionaerin-bis
 -heute-2023.09.15/\n\n
LOCATION:Frauenmuseum\, Im Krausfeld 10\, 53111 Bonn
GEO:50.74042739999999;7.092034399999989
X-APPLE-STRUCTURED-LOCATION;VALUE=URI;X-ADDRESS=Im Krausfeld 10\, Bonn\, 53
 111\, Frauenorganisation\, Deutschland;X-APPLE-RADIUS=100;X-TITLE=Frauenmu
 seum:geo:50.74042739999999,7.092034399999989
END:VEVENT
BEGIN:VTIMEZONE
TZID:Europe/Berlin
X-LIC-LOCATION:Europe/Berlin
BEGIN:DAYLIGHT
DTSTART:20230326T030000
TZOFFSETFROM:+0100
TZOFFSETTO:+0200
TZNAME:CEST
END:DAYLIGHT
END:VTIMEZONE
END:VCALENDAR