BEGIN:VCALENDAR
VERSION:2.0
PRODID:-//wp-events-plugin.com//7.2.3.1//EN
TZID:Europe/Berlin
X-WR-TIMEZONE:Europe/Berlin
BEGIN:VEVENT
UID:2544@frauenportal.koeln
DTSTART;TZID=Europe/Berlin:20200102T170000
DTEND;TZID=Europe/Berlin:20200102T220000
DTSTAMP:20191230T120335Z
URL:https://frauenportal.koeln/veranstaltungen/holla-beim-langen-donnersta
 g-im-museum-ludwig/
SUMMARY:Holla beim langen Donnerstag im Museum Ludwig
DESCRIPTION:Der lange Donnerstag im Januar dreht sich um Körperbilder. Wer
  oder was bestimmt unsere Vorsätze für das neue Jahr in Hinblick auf uns
 ere Körper? Wir selbst! Doch die Realität sieht oft anders aus: Menschen
  werden aufgrund ihrer Körper innerhalb einer Gesellschaft ungleich behan
 delt. Normen und eurozentrische Schönheitsvorstellungen prägen in Deutsc
 hland den Blick auf Körperformen\, Behaarungen\, Be_Hinderungen\, Hautfar
 ben und Gender und bereiten damit den Boden für Diskriminierungen und Mar
 ginalisierungen. \n\nAn diesem Abend geht es in einer Gesprächsrunde um p
 ersönliche Erfahrungen und politischen Aktivismus rund um „Body Positiv
 ity“ und „Self-Love“. \n\nAuch das Museum ist voller Darstellungen v
 on Körpern: Welche Normen hinter diesen stecken bzw. wie Künstler*innen 
 mit ihnen brechen\, erfahren Sie in Kurzführungen. Eine Leseecke bietet R
 aum sich zurückzuziehen und die Bücherauswahl zum Themenabend durchzubl
 ättern. Wer die gesammelten Eindrücke in materieller Form mit nach Hause
  nehmen möchte\, gestaltet ein eigenes Zine aus Collagen. \n\nProgramm: \
 n\n17–22 Uhr: Leseecke\n18–21 Uhr: Offener Zine-Workshop \n18/18.30/19
  Uhr: Führungen zum Thema Körper im Museum \n19 Uhr: Gesang und Poetry S
 lam von den "Hollies" (Gesang) und Leah Leaf (Poetry Slam) im Foyer\n20 Uh
 r: Filmvorführung und anschließendes Gespräch mit Diskussionsrunde mit 
 HOLLA e.V. im Kino\n\nVeranstalterinnen:\nMuseum Ludwig\, www.museum-ludwi
 g.de\nInterkulturelles Frauen- und Mädchen-Gesundheitszentrum – IFMGZ H
 olla e.V.\, www.holla-ev.de\n\nKosten:\nGanztätig frei für Kölner*innen
 \; alle anderen zahlen vor 17 Uhr normal\, danach nur 7 Euro.\n\nVeranstal
 tungsort:\nMuseum Ludwig\, Heinrich-Böll-Platz\, 50667 Köln\, [map id=10
 18] 
END:VEVENT
BEGIN:VTIMEZONE
TZID:Europe/Berlin
X-LIC-LOCATION:Europe/Berlin
BEGIN:STANDARD
DTSTART:20191027T020000
TZOFFSETFROM:+0200
TZOFFSETTO:+0100
TZNAME:CET
END:STANDARD
END:VTIMEZONE
END:VCALENDAR