BEGIN:VCALENDAR
VERSION:2.0
PRODID:-//wp-events-plugin.com//7.2.3.1//EN
TZID:Europe/Berlin
X-WR-TIMEZONE:Europe/Berlin
BEGIN:VEVENT
UID:2636@frauenportal.koeln
DTSTART;TZID=Europe/Berlin:20200402T200000
DTEND;TZID=Europe/Berlin:20200402T213000
DTSTAMP:20200319T162810Z
URL:https://frauenportal.koeln/veranstaltungen/ich-habs-geschafft-ein-doku
 mentarfilm-ueber-essstoerungen-2/
SUMMARY:Ich hab's geschafft! Ein Dokumentarfilm über Essstörungen
DESCRIPTION:Der Termin findet nicht statt.\n\nMutig\, offen und ehrlich spr
 echen verschiedene Menschen darüber\, warum sie krank geworden sind\, wie
  sie ihre Essstörung überwunden haben und wie es ihnen heute geht. Neun 
 berührende Portraits\, die ein Tabu zum Thema machen.\n\nEin Abend für F
 rauen* mit Essstörungen.\n\nVeranstalterin:\nFrauenLeben e.V. Köln\, Fra
 uenberatungsstelle\n\nAnsprechpartnerin:\nMargret Schnetgöke\, Tel.: 0221
  / 954 16 60\, E-Mail: \n\nmail@frauenleben.org\n\nAmeldung / Kosten:\nAuf
 grund der räumlichen Kapazitäten wird um eine verbindliche Anmeldung geb
 eten. Das Angebot ist kostenfrei.\n\nVeranstaltungsort:\nFrauenLeben\, Ven
 loer Str. 405 - 407\, 50825 Köln\, [map id=889]  
END:VEVENT
BEGIN:VTIMEZONE
TZID:Europe/Berlin
X-LIC-LOCATION:Europe/Berlin
BEGIN:DAYLIGHT
DTSTART:20200329T030000
TZOFFSETFROM:+0100
TZOFFSETTO:+0200
TZNAME:CEST
END:DAYLIGHT
END:VTIMEZONE
END:VCALENDAR