BEGIN:VCALENDAR
VERSION:2.0
PRODID:-//wp-events-plugin.com//7.2.3.1//EN
TZID:Europe/Berlin
X-WR-TIMEZONE:Europe/Berlin
BEGIN:VEVENT
UID:3166@frauenportal.koeln
DTSTART;TZID=Europe/Berlin:20210219T140000
DTEND;TZID=Europe/Berlin:20210219T180000
DTSTAMP:20210126T134618Z
URL:https://frauenportal.koeln/veranstaltungen/ideensprint-mit-frauenpower
 -in-die-selbstaendigkeit/
SUMMARY:Ideensprint – Mit Frauenpower in die Selbständigkeit
DESCRIPTION:Wenn Sie wissen möchten\, ob die unternehmerische Selbstständ
 igkeit etwas für Sie sein könnte oder Sie sich zu einer bestehenden Gesc
 häftsidee austauschen oder einfach Ihr Netzwerk erweitern möchten\, sind
  Sie beim „Ideensprint“ genau richtig: In drei Runden werden jeweils d
 rei Themen zur unternehmerischen Selbstständigkeit parallel angeboten.\n\
 nIn jeder Runde gibt es neben einem Impulsvortrag zu inhaltlichen Schwerpu
 nkten und dem spannenden Erfahrungsbericht einer Vorbild-Unternehmerin\, d
 ie Möglichkeit\, Fragen zu stellen und sich mit den anderen Teilnehmerinn
 en auszutauschen. Die Teilnehmerinnen lernen die Vorbild-Unternehmerinnen 
 Nicole Schelter\, Obiageli Njoku\, Gaby Schramm\, Marita Alami\, Anne von 
 Brockhausen\, Annette Elias und Dr. Inka Krude in den verschiedenen Runden
  kennen.\n\nDer Ideensprint wurde durch den von der Vorbild-Unternehmerin 
 Nicole Schelter ins Leben gerufenen Schwerter Ideenmarathon inspiriert und
  mit initiiert und wird gemeinsam mit der Wirtschaftsförderungsgesellscha
 ft für den Kreis Unna mbH\, StartUpUN und der Volksbank Schwerte durchgef
 ührt.\n\nHier ist die Einladung: Ideensprint - Mit Power in die Selbstän
 digkeit (pdf-Datei\, 2 MB)\n\nVeranstalterin:\nInitiative FRAUEN unternehm
 en des Bundesministeriums für Wirtschaft und Energie\n\nKontakt\nGeschäf
 tsstelle „FRAUEN unternehmen“ c/o Prospektiv GmbH\, Tel.: 0231 / 55697
 6-0\, E-Mail: info@frauen-unternehmen-initiative.de\n\nKosten / Anmeldung:
 \nDie Veranstaltung ist kostenfrei. Um Anmeldung wird gebeten unter Angabe
  des gewünschten Themas (wie in der Einladung beschrieben) per Mail an in
 fo@frauen-unternehmen-initiative.de oder telefonisch unter 0209 / 155663 \
 n\nVeranstaltungsort:\nonline
END:VEVENT
BEGIN:VTIMEZONE
TZID:Europe/Berlin
X-LIC-LOCATION:Europe/Berlin
BEGIN:STANDARD
DTSTART:20201025T020000
TZOFFSETFROM:+0200
TZOFFSETTO:+0100
TZNAME:CET
END:STANDARD
END:VTIMEZONE
END:VCALENDAR