BEGIN:VCALENDAR
VERSION:2.0
PRODID:-//wp-events-plugin.com//7.2.3.1//EN
TZID:Europe/Berlin
X-WR-TIMEZONE:Europe/Berlin
BEGIN:VEVENT
UID:4246@frauenportal.koeln
DTSTART;TZID=Europe/Berlin:20230308T190000
DTEND;TZID=Europe/Berlin:20230308T213000
DTSTAMP:20241115T085017Z
URL:https://frauenportal.koeln/veranstaltungen/ifs-begegnung-gender-divers
 ity/
SUMMARY:»ifs-Begegnung« Gender & Diversity
DESCRIPTION:Zum Internationalen Weltfrauentag auf der Leinwand: »Working o
 n it«\nD/CH 2008\, Experimentalfilm\, 50 Min.\, Regie: Karin Michalski & 
 Sabian Baumann\, engl. UT\n\nModeration: Natascha Frankenberg (Kuratorin I
 FFF Dortmund+Köln)\nGast: Regisseurin Karin Michalski\n\n»Working on it
 « greift mithilfe von Interviews und Inszenierungen in den Diskurs über 
 Geschlecht und sexuelle Identität ein. Er thematisiert\, wie diese am Arb
 eitsplatz\, im Kino/Fernsehen oder in den Beziehungen zu Hause konstruiert
  werden. Wie kann diesen Zuschreibungen begegnet werden?\n\nÜber das Scre
 ening sollen die Fragen und Antworten der Beteiligten von damals noch einm
 al aufgegriffen werden. (Wie) haben sich queer-feministische Diskussionen 
 und Strategien im Umgang mit Sexismus\, Heteronormativität und Rassismus 
 seit der Entstehung des Films verändert? \n\nDie Filmemacher*innen führe
 n mit allen Darsteller*innen Gespräche über ihre Beobachtungen im Alltag
  und deren teils aufwändige Bearbeitung. Befragt werden die Darsteller*in
 nen als Spezialist*innen für solche Umarbeitung in alltäglichem Handeln\
 , aber auch mittels Aktionen und kulturellen Produkten. Sie sprechen darü
 ber\, was es heißt und wie es möglich ist\, in öffentliche Bilder von S
 exualität und Weiß-Sein einzugreifen\, eine neue Sprache für mehr als z
 wei Geschlechter zu erfinden\, am Arbeitsplatz Abwertungen sexueller Ident
 ität zu wenden\, T-Shirts zu produzieren\, zu performen. \n\nDer Film ver
 zichtet darauf\, Erzählungen über Sexualität und Geschlecht im Sinne ei
 ner klassischen Dokumentation als ›authentisch‹ zu zeigen. Stattdessen
  sucht er experimentelle filmische Mittel\, die das ‘Sprechen über sich
  selbst’ als eine brauchbare Fiktion und als eine notwendige ›Arbeit
 ‹ ausstellen.\n\nVeranstalterinnen:\nInternationale Filmschule Köln\, w
 ww.filmschule.de\nInternationales Frauenfilmfestival Dortmund|Köln e.V.\,
  www.frauenfilmfest.com\n\nKosten:\nEintritt frei
LOCATION:Filmforum NRW im Museum Ludwig\, Bischofsgartenstr. 1\, 50667 Köl
 n
GEO:50.9405519;6.961474
X-APPLE-STRUCTURED-LOCATION;VALUE=URI;X-ADDRESS=Bischofsgartenstr. 1\, Köl
 n\, 50667\, Veranstaltungsort\, Deutschland;X-APPLE-RADIUS=100;X-TITLE=Fil
 mforum NRW im Museum Ludwig:geo:50.9405519,6.961474
END:VEVENT
BEGIN:VTIMEZONE
TZID:Europe/Berlin
X-LIC-LOCATION:Europe/Berlin
BEGIN:STANDARD
DTSTART:20221030T020000
TZOFFSETFROM:+0200
TZOFFSETTO:+0100
TZNAME:CET
END:STANDARD
END:VTIMEZONE
END:VCALENDAR