BEGIN:VCALENDAR
VERSION:2.0
PRODID:-//wp-events-plugin.com//7.2.3.1//EN
TZID:Europe/Berlin
X-WR-TIMEZONE:Europe/Berlin
BEGIN:VEVENT
UID:4704@frauenportal.koeln
DTSTART;TZID=Europe/Berlin:20240310T110000
DTEND;TZID=Europe/Berlin:20240310T160000
DTSTAMP:20241115T085310Z
URL:https://frauenportal.koeln/veranstaltungen/ift-brunch-mit-musik/
SUMMARY:IFT: Brunch mit Musik
DESCRIPTION:– Brunch mit Musik zum Internationalen Frauentag für Frauen*
  im Interkulturellen Zentrum im Bürgerzentrum MüZe –\n\nEine musikalis
 che Reise nach Mesopotamien und Anatolien!\n\nDie Kunstschaffende Ilkay Y
 ılmaz singt leidenschaftlich schon seit ihrer Jugendzeit. Ihre Musik prä
 gen türkische\, kurdische\, armenische und arabische traditionelle Lieder
  gepaart mit westlichen Klängen. Begleitet wird sie von Zelal Cengiz Kız
 ılkan (Piano) und Sidal Çakar (Flöte).\n\nHier ist die Einladung: LILA 
 Brunch_10.03.2024 (pdf-Datei\, 459 KB)\n\nVeranstalterinnen:\nBündnis aut
 onomer Frauenprojekte gegen Gewalt - Lila in Köln\n\nAnsprechpartnerin:\n
 Parvin Ebrahimzadeh\, Tel.: 0176 46773463\, E-Mail: p.ebrahimzadeh@interku
 ltur-ev.net\n\nAnmeldung / Kosten:\nAnmeldung bis 04.03.2024 bei Parvin Eb
 rahimzadeh mit Angabe ob mit Fleisch / vegetarisch / vegan.\nKinderbetreuu
 ng möglich\, bitte mit Altersangabe anmelden.\nEintritt: 5\,- / 10\,- / 1
 5\,- € nach Selbsteinschätzung
LOCATION:MÜZE Mülheimer Bürgerhaus\, Berliner Str. 77\, 51063 Köln
GEO:50.972384;7.010507
X-APPLE-STRUCTURED-LOCATION;VALUE=URI;X-ADDRESS=Berliner Str. 77\, Köln\, 
 51063\, Veranstaltungsort\, Deutschland;X-APPLE-RADIUS=100;X-TITLE=MÜZE M
 ülheimer Bürgerhaus:geo:50.972384,7.010507
END:VEVENT
BEGIN:VTIMEZONE
TZID:Europe/Berlin
X-LIC-LOCATION:Europe/Berlin
BEGIN:STANDARD
DTSTART:20231029T020000
TZOFFSETFROM:+0200
TZOFFSETTO:+0100
TZNAME:CET
END:STANDARD
END:VTIMEZONE
END:VCALENDAR