BEGIN:VCALENDAR
VERSION:2.0
PRODID:-//wp-events-plugin.com//7.2.3.1//EN
TZID:Europe/Berlin
X-WR-TIMEZONE:Europe/Berlin
BEGIN:VEVENT
UID:6162@frauenportal.koeln
DTSTART;TZID=Europe/Berlin:20260329T140000
DTEND;TZID=Europe/Berlin:20260329T170000
DTSTAMP:20260319T164446Z
URL:https://frauenportal.koeln/veranstaltungen/ift-frauenrechte-verteidige
 n-gemeinsam-in-deutschland-und-weltweit/
SUMMARY:IFT: Frauenrechte verteidigen – Gemeinsam\, in Deutschland und we
 ltweit
DESCRIPTION:Frauenrechte sind in Gefahr.\nAuch hier. Auch heute.\n\nUmso wi
 chtiger ist es\, gemeinsam hinzusehen\, sich auszutauschen und füreinande
 r einzustehen.\n\nDazu lädt FEE – Fördern und Erfolge ernten e. V. her
 zlich ein:\n\nProgramm: Film • Imbiss • Austausch\n\nVeranstalterinnen
 :\nFEE – Fördern &amp\; Erfolge Ernten e.V.\, www.fee-koeln.de\n\nAnspr
 echpartnerin:\nJulia Schulz\, Tel.: 0221 / 99309320\, E-Mail: kontakt@fee-
 koeln.de\n\nKosten / Anmeldung:\nUm Rückmeldung wird gebeten bis 26.03.20
 26.
LOCATION:FEE - Fördern und Erfolg ernten e.V.\, Piccoloministr. 435\, 5106
 7 Köln
GEO:50.973107;7.048555
X-APPLE-STRUCTURED-LOCATION;VALUE=URI;X-ADDRESS=Piccoloministr. 435\, Köln
 \, 51067\, Frauenorganisation\, Deutschland;X-APPLE-RADIUS=100;X-TITLE=FEE
  - Fördern und Erfolg ernten e.V.:geo:50.973107,7.048555
END:VEVENT
BEGIN:VTIMEZONE
TZID:Europe/Berlin
X-LIC-LOCATION:Europe/Berlin
BEGIN:DAYLIGHT
DTSTART:20260329T030000
TZOFFSETFROM:+0100
TZOFFSETTO:+0200
TZNAME:CEST
END:DAYLIGHT
END:VTIMEZONE
END:VCALENDAR