BEGIN:VCALENDAR
VERSION:2.0
PRODID:-//wp-events-plugin.com//7.2.3.1//EN
TZID:Europe/Berlin
X-WR-TIMEZONE:Europe/Berlin
BEGIN:VEVENT
UID:1392@frauenportal.koeln
DTSTART;TZID=Europe/Berlin:20181107T143000
DTEND;TZID=Europe/Berlin:20181107T163000
DTSTAMP:20181031T174301Z
URL:https://frauenportal.koeln/veranstaltungen/ilc-koeln-buecherschau/
SUMMARY:ILC Köln: Bücherschau
DESCRIPTION:14.30 Uhr Kaffeetafel\, Informationsaustausch und Bücherschau\
 n\nKurz nach der Frankfurter Buchmesse stellt Christiane Möschle in Zusam
 menarbeit mit dem „Buchsalon Ehrenfeld“ lesenswerte Buch-Neuerscheinun
 gen vor.\n\nVeranstalterin:\nInternationaler Lyceum Club Köln e.V.\n\nAns
 prechpartnerin:\nRenate Cimiotti\, E-Mail: info@lyceumclub-koeln.de\n\nKos
 ten / Anmeldung:\nBeitrag für Gäste: 5\,00 €. Der Verzehr ist selbst z
 u tragen. Anmeldung bis eine Woche vorher bei Frau Kusserow\, E-Mail: r.ku
 sserow@t-online.de\, Tel. 0221 / 7123814.\n\nVeranstaltungsort:\nLindner H
 otel City Plaza (Kölsche Stube)\, Magnusstr. 20\, 50672 Köln\, [map id=1
 017]
END:VEVENT
BEGIN:VTIMEZONE
TZID:Europe/Berlin
X-LIC-LOCATION:Europe/Berlin
BEGIN:STANDARD
DTSTART:20181028T020000
TZOFFSETFROM:+0200
TZOFFSETTO:+0100
TZNAME:CET
END:STANDARD
END:VTIMEZONE
END:VCALENDAR