BEGIN:VCALENDAR
VERSION:2.0
PRODID:-//wp-events-plugin.com//7.2.3.1//EN
TZID:Europe/Berlin
X-WR-TIMEZONE:Europe/Berlin
BEGIN:VEVENT
UID:3931@frauenportal.koeln
DTSTART;TZID=Europe/Berlin:20221114T180000
DTEND;TZID=Europe/Berlin:20221114T193000
DTSTAMP:20221031T104948Z
URL:https://frauenportal.koeln/veranstaltungen/ilc-koeln-das-buch-fuer-die
 -stadt-2022/
SUMMARY:ILC Köln: Das Buch für die Stadt 2022
DESCRIPTION:Jedes Jahr kürt eine Jury bestehend aus Kölner Stadt-Anzeiger
 \, Literaturhaus Köln und Vertreter*innen aus dem Kölner Buchhandel das 
 „Buch für die Stadt“. Dieses Jahr ist es der Roman „Sechzehn Wörte
 r“ von Nava Ebrahimi.\n\nAleksandra Kruglova und Alexandra Wende stellen
  es vor.\n\nDas Buch ist gebunden und als Taschenbuch erhältlich. Demnäc
 hst erscheint außerdem eine Sonderausgabe. \n\nVeranstalterin:\nInternati
 onaler Lyceum Club Köln e.V.\n\nAnsprechpartnerin:\nHeidi Esser\, E-Mail:
  info@lyceumclub-koeln.de\n\nKosten / Anmeldung:\nBeitrag für Gäste: 5\,
 00 €. Anmeldung bis eine Woche vorher bei Frau Kusserow\, E-Mail: r.kuss
 erow@t-online.de\, Tel. 0221 / 7123814.\n\nVeranstaltungsort:\nGeschäftss
 telle ILC Köln\, Albertusstr. 13-17\, 1. Etage\, 50667 Köln\, [map id=14
 040]
END:VEVENT
BEGIN:VTIMEZONE
TZID:Europe/Berlin
X-LIC-LOCATION:Europe/Berlin
BEGIN:STANDARD
DTSTART:20221030T020000
TZOFFSETFROM:+0200
TZOFFSETTO:+0100
TZNAME:CET
END:STANDARD
END:VTIMEZONE
END:VCALENDAR