BEGIN:VCALENDAR
VERSION:2.0
PRODID:-//wp-events-plugin.com//7.2.3.1//EN
TZID:Europe/Berlin
X-WR-TIMEZONE:Europe/Berlin
BEGIN:VEVENT
UID:5055@frauenportal.koeln
DTSTART;TZID=Europe/Berlin:20240516T120000
DTEND;TZID=Europe/Berlin:20240516T133000
DTSTAMP:20240506T121004Z
URL:https://frauenportal.koeln/veranstaltungen/ilc-koeln-das-roemergrab-we
 iden/
SUMMARY:ILC Köln: Das Römergrab Weiden
DESCRIPTION:– Ein Blick in das Reich der Toten und auf das Leben der Röm
 er –\n\nFührungen durch die Grabkammer.\n\nDie 1843 bei Ausschachtungsa
 rbeiten entdeckte unterirdische Grabkammer – das Römergrab Weiden (Aach
 ener Straße 1328) – zählt zu den besterhaltenen und eindrucksvollsten 
 römischen Grabanlagen nördlich der Alpen.\n\nDie historische Treppenanla
 ge ist nicht behindertengerecht.\n\nVeranstalterin:\nInternationaler Lyceu
 m Club Köln e.V.\n\nAnsprechpartnerin:\nHeidi Esser\, E-Mail: info@lyceum
 club-koeln.de\n\nKosten / Anmeldung:\nKosten: Eintritt 5\,00 € pro Perso
 n\, ermäßigt 3\,50 €. Anmeldung bitte per Email an info@lyceumclub-koe
 ln.de oder telefonisch unter 0176 / 2766 6632.\nMax. Teilnehmendenzahl: 15
 \n\nTreffpunkt: \nRömergrab Weiden um 11.45 Uhr\n
LOCATION:Römergrab Weiden\, Aachener Str. 1328\, 50859 Köln
GEO:50.938669;6.82445
X-APPLE-STRUCTURED-LOCATION;VALUE=URI;X-ADDRESS=Aachener Str. 1328\, Köln\
 , Nordrhein-Westfalen\, 50859\, Veranstaltungsort\, Deutschland;X-APPLE-RA
 DIUS=100;X-TITLE=Römergrab Weiden:geo:50.938669,6.82445
END:VEVENT
BEGIN:VTIMEZONE
TZID:Europe/Berlin
X-LIC-LOCATION:Europe/Berlin
BEGIN:DAYLIGHT
DTSTART:20240331T030000
TZOFFSETFROM:+0100
TZOFFSETTO:+0200
TZNAME:CEST
END:DAYLIGHT
END:VTIMEZONE
END:VCALENDAR