BEGIN:VCALENDAR
VERSION:2.0
PRODID:-//wp-events-plugin.com//7.2.3.1//EN
TZID:Europe/Berlin
X-WR-TIMEZONE:Europe/Berlin
BEGIN:VEVENT
UID:2901@frauenportal.koeln
DTSTART;TZID=Europe/Berlin:20201113T180000
DTEND;TZID=Europe/Berlin:20201113T200000
DTSTAMP:20201109T094928Z
URL:https://frauenportal.koeln/veranstaltungen/ilc-koeln-david-prudhommes-
 kunstcomic-einmal-durch-den-louvre/
SUMMARY:ILC Köln: David Prudhommes Kunstcomic Einmal durch den Louvre
DESCRIPTION:Die ILC-Köln-Stipendiatin Marie-Yvonne Müller hält einen Vor
 trag über David Prudhommes Kunstcomic „Einmal durch den Louvre“.\n\nD
 er französische Comicautor David Prudhomme (*1969) lädt zu einem ungewö
 hnlichen Streifzug durch den Pariser Louvre ein\, bei dem er spielerisch d
 ie Rollen vertauscht und fragt: Wen betrachtet eigentlich die Mona Lisa? I
 n seiner Hommage an das Museum erscheinen die Kunstwerke in ihrer stillen 
 Zeugenschaft als Betrachtende und die Besucherinnen und Besucher aus aller
  Welt als die wahre Attraktion. David Prudhomme fängt Momente von skurril
 em Witz ein und lässt in raffinierten Buntstiftzeichnungen die Bild- und 
 Realitätsebenen verschwimmen.\n\nVeranstalterin:\nInternationaler Lyceum 
 Club Köln e.V.\n\nAnsprechpartnerin:\nRenate Cimiotti\, E-Mail: info@lyce
 umclub-koeln.de\n\nKosten / Anmeldung:\nGäste sind herzlich willkommen\, 
 Anmeldung ist erforderlich bei Frau Feldmann-Kahl per Mail unter cmhfk@icl
 oud.com oder telefonisch unter Tel. 02206.869414.\nDie Mail mit dem Schlü
 ssel für den virtuellen Raum erhalten Sie eine Stunde vor Beginn des Even
 ts.\n\nVeranstaltungsort:\nonline
END:VEVENT
BEGIN:VTIMEZONE
TZID:Europe/Berlin
X-LIC-LOCATION:Europe/Berlin
BEGIN:STANDARD
DTSTART:20201025T020000
TZOFFSETFROM:+0200
TZOFFSETTO:+0100
TZNAME:CET
END:STANDARD
END:VTIMEZONE
END:VCALENDAR