BEGIN:VCALENDAR
VERSION:2.0
PRODID:-//wp-events-plugin.com//7.2.3.1//EN
TZID:Europe/Berlin
X-WR-TIMEZONE:Europe/Berlin
BEGIN:VEVENT
UID:2548@frauenportal.koeln
DTSTART;TZID=Europe/Berlin:20200116T143000
DTEND;TZID=Europe/Berlin:20200116T163000
DTSTAMP:20191231T083959Z
URL:https://frauenportal.koeln/veranstaltungen/ilc-koeln-die-beginen-neue-
 kultur-des-zusammenlebens-von-frauen/
SUMMARY:ILC Köln: Die Beginen - Neue Kultur des Zusammenlebens von Frauen
DESCRIPTION:Die Bezeichnung „Begine“ gilt seit dem 12. Jahrhundert für
  alleinstehende Frauen\, die ein Leben in Wohn- und Arbeitsgemeinschaft mi
 t Gleichgesinnten jenseits von Ehe und Kloster wählen. Selbstbestimmung u
 nd Solidarität sind wichtige Säulen dieser Gemeinschaft. Der Verein der 
 Beginen Köln e.V. feierte Ende 2019 sein 25- jähriges Bestehen.\n\nRefer
 entin:\nChristine Müthrath\, Beginen Köln\n\nVeranstalterin:\nInternatio
 naler Lyceum Club Köln e.V.\n\nAnsprechpartnerin:\nRenate Cimiotti\, E-Ma
 il: info@lyceumclub-koeln.de\n\nKosten / Anmeldung:\nBeitrag für Gäste: 
 5\,00 €. Anmeldung bis eine Woche vorher bei Frau Kusserow\, E-Mail: r.k
 usserow@t-online.de\, Tel. 0221 / 7123814.\n\nVeranstaltungsort:\nGeschäf
 tsstelle ILC Köln\, Albertusstr. 13-17\, 1. Etage\, 50667 Köln\, [map id
 =14040]
END:VEVENT
BEGIN:VTIMEZONE
TZID:Europe/Berlin
X-LIC-LOCATION:Europe/Berlin
BEGIN:STANDARD
DTSTART:20191027T020000
TZOFFSETFROM:+0200
TZOFFSETTO:+0100
TZNAME:CET
END:STANDARD
END:VTIMEZONE
END:VCALENDAR