BEGIN:VCALENDAR
VERSION:2.0
PRODID:-//wp-events-plugin.com//7.2.3.1//EN
TZID:Europe/Berlin
X-WR-TIMEZONE:Europe/Berlin
BEGIN:VEVENT
UID:3172@frauenportal.koeln
DTSTART;TZID=Europe/Berlin:20210209T180000
DTEND;TZID=Europe/Berlin:20210209T200000
DTSTAMP:20210131T120243Z
URL:https://frauenportal.koeln/veranstaltungen/ilc-koeln-die-new-yorker-sc
 hriftstellerin-lily-brett/
SUMMARY:ILC Köln: Die New Yorker Schriftstellerin Lily Brett
DESCRIPTION: – Online-Vortrag und Lesung von Ulrike Thiede –\n\nDie heu
 te 74jährige Autorin lässt uns miterleben\, wie aus ihrer besonderen Bio
 graphie Literatur wird: als Tochter von Eltern\, die den Holocaust überle
 bt haben\, als junge Reporterin für die australische Ausgabe der Musikzei
 tschrift “Rolling Stone”\, als nun ältere\, aber noch immer begeister
 te New Yorkerin.\n\nExemplarisch werden drei Bücher vorgestellt\, die die
 se Verknüpfung erkennen lassen und den der Autorin eigenen lakonischen\, 
 oft pointierten Stil aufzeigen. Die jeweils dazu gelesenen Textstellen ver
 anschaulichen die Erzählweise der Schriftstellerin und bieten vielleicht 
 einen Anreiz zur eigenen Lektüre. Die ausgewählten Werke sind: "Zu viele
  Männer" (2001)\, "Lola Bensky" (2012) und "Alt sind nur die anderen" (20
 20).\n\nVeranstalterin:\nInternationaler Lyceum Club Köln e.V.\n\nAnsprec
 hpartnerin:\nRenate Cimiotti\, E-Mail: info@lyceumclub-koeln.de\n\nKosten 
 / Anmeldung:\nGäste sind herzlich willkommen\, Anmeldung unter info@lyceu
 mclub.de\n\nVeranstaltungsort:\nonline
END:VEVENT
BEGIN:VTIMEZONE
TZID:Europe/Berlin
X-LIC-LOCATION:Europe/Berlin
BEGIN:STANDARD
DTSTART:20201025T020000
TZOFFSETFROM:+0200
TZOFFSETTO:+0100
TZNAME:CET
END:STANDARD
END:VTIMEZONE
END:VCALENDAR