BEGIN:VCALENDAR
VERSION:2.0
PRODID:-//wp-events-plugin.com//7.2.3.1//EN
TZID:Europe/Berlin
X-WR-TIMEZONE:Europe/Berlin
BEGIN:VEVENT
UID:1297@frauenportal.koeln
DTSTART;TZID=Europe/Berlin:20180915T110000
DTEND;TZID=Europe/Berlin:20180915T140000
DTSTAMP:20180831T142229Z
URL:https://frauenportal.koeln/veranstaltungen/ilc-koeln-gabriele-muenter-
 malen-ohne-umschweife/
SUMMARY:ILC Köln: Gabriele Münter - Malen ohne Umschweife
DESCRIPTION:Eng mit dem Blauen Reiter verbunden\, war sie eine der wichtigs
 ten deutschen Malerinnen des Expressionismus. \nAls langjährige Lebensgef
 ährtin von Wassily Kandinsky rettete sie einen bedeutenden Teil seiner We
 rke und machte sie der Öffentlichkeit zugänglich.\n \nFührung im Museum
  Ludwig\, Treffpunkt Foyer um 10.45 Uhr.\n\nAnschließend Einkehr im Café
  und Restaurant „Ludwig im Museum“\n\nVeranstalterin:\nInternationaler
  Lyceum Club Köln e.V.\n\nAnsprechpartnerin:\nRenate Cimiotti\, E-Mail: i
 nfo@lyceumclub-koeln.de\n\nKosten / Anmeldung:\nBeitrag für Gäste: 5\,00
  €. Der Verzehr ist selbst zu tragen. Anmeldung bis eine Woche vorher be
 i Frau Kusserow\, E-Mail: r.kusserow@t-online.de\, Tel. 0221 / 7123814.\n\
 nVeranstaltungsort:\nMuseum Ludwig\, Heinrich-Böll-Platz\, 50667 Köln\, 
 [map id=1018]
END:VEVENT
BEGIN:VTIMEZONE
TZID:Europe/Berlin
X-LIC-LOCATION:Europe/Berlin
BEGIN:DAYLIGHT
DTSTART:20180325T030000
TZOFFSETFROM:+0100
TZOFFSETTO:+0200
TZNAME:CEST
END:DAYLIGHT
END:VTIMEZONE
END:VCALENDAR