BEGIN:VCALENDAR
VERSION:2.0
PRODID:-//wp-events-plugin.com//7.2.3.1//EN
TZID:Europe/Berlin
X-WR-TIMEZONE:Europe/Berlin
BEGIN:VEVENT
UID:1066@frauenportal.koeln
DTSTART;TZID=Europe/Berlin:20180410T143000
DTEND;TZID=Europe/Berlin:20180410T163000
DTSTAMP:20180331T121022Z
URL:https://frauenportal.koeln/veranstaltungen/ilc-koeln-hamlet-heilige-un
 d-hunde-als-koenige-daenische-geschichtsschreibung-des-mittelalters-neu-be
 trachtet/
SUMMARY:ILC Köln: Hamlet\, Heilige und Hunde als Könige - Dänische Gesch
 ichtsschreibung des Mittelalters neu betrachtet
DESCRIPTION:14.30 Uhr Kaffeetafel\, Informationsaustausch und Vortrag "Haml
 et\, Heilige und Hunde als Könige - Dänische Geschichtsschreibung des Mi
 ttelalters neu betrachtet"\n\nReferentin:\nAnja Ute Blode M.A.\, Lehrbeauf
 tragte (Mediävistik) am Institut für Skandinavistik/Fennistik an der U
 niversität zu Köln\n\nVeranstalterin:\nInternationaler Lyceum Club Kö
 ln e.V.\n\nAnsprechpartnerin:\nRenate Cimiotti\, E-Mail: info@lyceumclub-k
 oeln.de\n\nKosten / Anmeldung:\nBeitrag für Gäste: 5\,00 €. Der Verzeh
 r ist selbst zu tragen. Anmeldung bis eine Woche vorher bei Frau Kusserow\
 , Tel. 0221 / 7123814.\n\nVeranstaltungsort:\nLindner Hotel City Plaza (K
 ölsche Stube)\, Magnusstr. 20\, 50672 Köln\, [map id=1017]
END:VEVENT
BEGIN:VTIMEZONE
TZID:Europe/Berlin
X-LIC-LOCATION:Europe/Berlin
BEGIN:DAYLIGHT
DTSTART:20180325T030000
TZOFFSETFROM:+0100
TZOFFSETTO:+0200
TZNAME:CEST
END:DAYLIGHT
END:VTIMEZONE
END:VCALENDAR