BEGIN:VCALENDAR
VERSION:2.0
PRODID:-//wp-events-plugin.com//7.2.3.1//EN
TZID:Europe/Berlin
X-WR-TIMEZONE:Europe/Berlin
BEGIN:VEVENT
UID:3726@frauenportal.koeln
DTSTART;TZID=Europe/Berlin:20220406T150000
DTEND;TZID=Europe/Berlin:20220406T163000
DTSTAMP:20220331T094302Z
URL:https://frauenportal.koeln/veranstaltungen/ilc-koeln-kaiserstuhl-brigi
 tte-glaser-stellt-ihren-neuen-roman-vor/
SUMMARY:ILC Köln: „Kaiserstuhl“ – Brigitte Glaser stellt ihren neuen
  Roman vor
DESCRIPTION:Am Kaiserstuhl kreuzen sich kurz nach Kriegsende die Wege von H
 enny Köpfer und Paul Duringer. Die Tochter eines Weinhändlers und der el
 sässische Soldat leben auf dem Hof der alten Bäuerin Kätter. Mit ihr un
 d dem kleinen Kaspar wachsen sie zu einer Familie zusammen. Paul verschwin
 det ganz plötzlich und auch Henny kehrt dem Kaiserstuhl den Rücken. Erst
  1962 stehen sich Henny und Paul wieder gegenüber. Sofort brechen alte Wu
 nden auf\, und am liebsten würden beide noch einmal davonlaufen. Doch das
  können sie nicht. Denn Henny ist im Besitz einer alten Champagnerflasche
 \, die Paul im Auftrag des französischen Sicherheitsdienstes sucht. Sie i
 st an Symbolkraft kaum zu überbieten\; sie steht für die Plünderungen d
 er Deutschen in Frankreich und soll Adenauer und de Gaulle bei einem Festa
 kt überreicht werden.\n\nBrigitte Glaser lebt seit über 30 Jahren in Kö
 ln. Bevor sie zum Schreiben kam\, hat die studierte Sozialpädagogin in de
 r Jugendarbeit und im Medienbereich gearbeitet. Heute schreibt sie Bücher
  für Jugendliche und Krimis für Erwachsene\, u.a. ihre erfolgreiche Krim
 iserie um die Köchin Katharina Schweitzer. Mit Bühlerhöhe gelang ihr de
 r Durchbruch. Mehr: www.brigitteglaser.de\n\nVeranstalterin:\nInternationa
 ler Lyceum Club Köln e.V.\n\nAnsprechpartnerin:\nHeidi Esser\, E-Mail: in
 fo@lyceumclub-koeln.de\n\nKosten / Anmeldung:\nBeitrag für Gäste: 5\,00 
 €. Anmeldung bis eine Woche vorher bei Frau Kusserow\, E-Mail: r.kussero
 w@t-online.de\, Tel. 0221 / 7123814.\n\nVeranstaltungsort:\nGeschäftsstel
 le ILC Köln\, Albertusstr. 13-17\, 1. Etage\, 50667 Köln\, [map id=14040
 ]
END:VEVENT
BEGIN:VTIMEZONE
TZID:Europe/Berlin
X-LIC-LOCATION:Europe/Berlin
BEGIN:DAYLIGHT
DTSTART:20220327T030000
TZOFFSETFROM:+0100
TZOFFSETTO:+0200
TZNAME:CEST
END:DAYLIGHT
END:VTIMEZONE
END:VCALENDAR