BEGIN:VCALENDAR
VERSION:2.0
PRODID:-//wp-events-plugin.com//7.2.3.1//EN
TZID:Europe/Berlin
X-WR-TIMEZONE:Europe/Berlin
BEGIN:VEVENT
UID:504@frauenportal.koeln
DTSTART;TZID=Europe/Berlin:20170916T133000
DTEND;TZID=Europe/Berlin:20170916T163000
DTSTAMP:20170831T183838Z
URL:https://frauenportal.koeln/veranstaltungen/ilc-koeln-koestlich-koechin
 -und-koelsche-leckerfress/
SUMMARY:ILC Köln: Köstlich! Köchin und kölsche Leckerfress
DESCRIPTION:Führung zum Essen und Trinken mit Café- und Brauhausbesuch mi
 t\nHeike Rentrop\, Kunsthistorikerin\, Kölner Frauengeschichtsverein \n\n
 Veranstalterin:\nInternationaler Lyceum Club Köln e.V.\n\nAnsprechpartner
 in:\nRenate Cimiotti\, E-Mail: info@lyceumclub-koeln.de\n\nKosten / Anmeld
 ung:\nKostenbeitrag:  21 € inkl. Kaffee und kleine Leckereien. Anmeldung
  bis eine Woche vorher bei Frau Kusserow\, Tel. 0221 / 7123814.\n\nVeranst
 altungsort:\nTreffpunkt: KVB-Haltestelle „Heumarkt“
END:VEVENT
BEGIN:VTIMEZONE
TZID:Europe/Berlin
X-LIC-LOCATION:Europe/Berlin
BEGIN:DAYLIGHT
DTSTART:20170326T030000
TZOFFSETFROM:+0100
TZOFFSETTO:+0200
TZNAME:CEST
END:DAYLIGHT
END:VTIMEZONE
END:VCALENDAR